BEGIN:VCALENDAR
VERSION:2.0
PRODID:-//ChamberMaster//Event Calendar 2.0//EN
METHOD:PUBLISH
X-PUBLISHED-TTL:P3D
REFRESH-INTERVAL:P3D
CALSCALE:GREGORIAN
BEGIN:VEVENT
DTSTART:20190626T140000Z
DTEND:20190626T150000Z
X-MICROSOFT-CDO-ALLDAYEVENT:FALSE
SUMMARY:Customer Service XLR8 class
DESCRIPTION:Join us for this professional development opportunity offered by Jason Ballard Focal Point Coaching. \n\nCustomer Service Skills training  is great for workplace involvement\,  \n\nDiscuss best practices of Customer services. \n\n.
X-ALT-DESC;FMTTYPE=text/html:<span style="font-size:18px\;"><span style="color: rgb(31\, 73\, 125)\; font-family: sans-serif\, Arial\, Verdana\, &quot\;Trebuchet MS&quot\;\;">Join us for this professional development opportunity offered by Jason Ballard Focal Point Coaching.&nbsp\;</span><br />\n<font color="#1f497d" face="sans-serif\, Arial\, Verdana\, Trebuchet MS">Customer Service Skills training&nbsp\; is great for workplace involvement\,&nbsp\;&nbsp\;</font><br />\n<font color="#1f497d" face="sans-serif\, Arial\, Verdana\, Trebuchet MS">Discuss best practices of Customer services.&nbsp\;</font><br />\n<span style="color: rgb(31\, 73\, 125)\; font-family: sans-serif\, Arial\, Verdana\, &quot\;Trebuchet MS&quot\;\;">.&nbsp\;</span></span>
LOCATION:Talbott Inn Conference Room 101 West Stephen Foster Bardstown\, KY 40004
UID:e.2912.1746
SEQUENCE:3
DTSTAMP:20260421T082435Z
URL:https://members.bardstownchamber.com/events/details/customer-service-xlr8-class-1746
END:VEVENT

END:VCALENDAR
