BEGIN:VCALENDAR
VERSION:2.0
PRODID:-//ChamberMaster//Event Calendar 2.0//EN
METHOD:PUBLISH
X-PUBLISHED-TTL:P3D
REFRESH-INTERVAL:P3D
CALSCALE:GREGORIAN
BEGIN:VEVENT
DTSTART:20180911T150000Z
DTEND:20180911T190000Z
X-MICROSOFT-CDO-ALLDAYEVENT:FALSE
SUMMARY:Crown Services Job Fair
DESCRIPTION:Taking onsite applications for job openings in Bardstown\, Shepherdsville\, Bloomfield and Elizabethtown. Pay ranges $11-15/hour.
X-ALT-DESC;FMTTYPE=text/html:<span style="color: rgb(29\, 33\, 41)\; font-family: Helvetica\, Arial\, sans-serif\; font-size: 14px\; background-color: rgb(255\, 255\, 255)\;">Taking onsite applications for job openings in Bardstown\, Shepherdsville\, Bloomfield and Elizabethtown. Pay ranges $11-15/hour.</span>
LOCATION:
UID:e.2912.1597
SEQUENCE:3
DTSTAMP:20260419T211712Z
URL:https://members.bardstownchamber.com/events/details/crown-services-job-fair-1597
END:VEVENT

END:VCALENDAR
