BEGIN:VCALENDAR
VERSION:2.0
PRODID:-//ChamberMaster//Event Calendar 2.0//EN
METHOD:PUBLISH
X-PUBLISHED-TTL:P3D
REFRESH-INTERVAL:P3D
CALSCALE:GREGORIAN
BEGIN:VEVENT
DTSTART:20200813T130000Z
DTEND:20200813T160000Z
X-MICROSOFT-CDO-ALLDAYEVENT:FALSE
SUMMARY:Critical Thinking
DESCRIPTION:ECTC and the Bardstown Nelson County Chamber of Commerce has partnered to bring you this opportunity.\n\n\n\nCritical Thinking \n\nLearn the skills to be more productive in your career. \n\nLearn between relevant and irrelevant information.
X-ALT-DESC;FMTTYPE=text/html:<p class="_04xlpA direction-ltr align-start para-style-body" style="line-height: 1.4\; font-family: &quot\;YACgEZ1cb1Q 0&quot\;\, _fb_\, auto\; font-size: 16.6859px\;"><br />\n<span style="font-size:14px\;"><span style="font-family:arial\;"><span class="JsGRdQ">ECTC and the Bardstown Nelson County Chamber of Commerce has partnered to bring you this opportunity.<br />\n<br />\n<strong><u>Critical Thinking&nbsp\;</u></strong></span></span></span><br />\n<font face="arial"><span style="font-size: 14px\;">Learn the skills to be more productive in your career.&nbsp\;<br />\nLearn between relevant and irrelevant information.&nbsp\;</span></font></p>\n
LOCATION:Classes will all be online
UID:e.2912.2877
SEQUENCE:3
DTSTAMP:20260420T053749Z
URL:https://members.bardstownchamber.com/events/details/critical-thinking-2877
END:VEVENT

END:VCALENDAR
