BEGIN:VCALENDAR
VERSION:2.0
PRODID:-//ChamberMaster//Event Calendar 2.0//EN
METHOD:PUBLISH
X-PUBLISHED-TTL:P3D
REFRESH-INTERVAL:P3D
CALSCALE:GREGORIAN
BEGIN:VEVENT
DTSTART;VALUE=DATE:20210607
DTEND;VALUE=DATE:20210608
TRANSP:TRANSPARENT
X-MICROSOFT-CDO-ALLDAYEVENT:TRUE
SUMMARY:COVID-19 vaccine clinic.
DESCRIPTION:In partnership with Crume Drug Store of Bardstown\, Log Still Distillery is hosting a COVID-19 vaccine clinic.\n\nPharmacists from Crume Drug Store in Bardstown will be at Log Still Distillery on June 7th providing COVID-19 vaccines. Everyone receiving a vaccine at the clinic will receive a free Log Still Distillery t-shirt.\n\nBoth the Moderna and the Johnson & Johnson vaccine will be available for people age 18 and up.\n\nMore information on eligibility and FAQ: https://www.crumedrugstore.com/covid-19-vaccine\n\nReservations are preferred\, but walk-ins are welcome. Get scheduled today! https://www.eventbrite.com/e/covid-19-vaccine-clinic-tickets-156245952851
X-ALT-DESC;FMTTYPE=text/html:<strong><span style="color:black\;">I<span style="letter-spacing:.4pt\;">n partnership with Crume Drug Store of Bardstown\, Log Still Distillery is hosting a COVID-19 vaccine clinic.</span></span></strong><br />\n<span style="letter-spacing:.4pt\;"><span style="color:black\;">Pharmacists from Crume Drug Store in Bardstown will be at Log Still Distillery on June 7th providing COVID-19 vaccines. Everyone receiving a vaccine at the clinic will receive a&nbsp\;<strong>free Log Still Distillery t-shirt</strong>.</span></span><br />\n<span style="letter-spacing:.4pt\;"><span style="color:black\;">Both the Moderna and the Johnson &amp\; Johnson vaccine will be available for people age 18 and up.</span></span><br />\n<span style="letter-spacing:.4pt\;"><span style="color:black\;">More information on eligibility and FAQ: <a href="https://www.crumedrugstore.com/covid-19-vaccine">https://www.crumedrugstore.com/covid-19-vaccine</a></span></span><br />\n<span style="letter-spacing:.4pt\;"><span style="color:black\;">Reservations are preferred\, but walk-ins are welcome. Get scheduled today! <a href="https://www.eventbrite.com/e/covid-19-vaccine-clinic-tickets-156245952851">https://www.eventbrite.com/e/covid-19-vaccine-clinic-tickets-156245952851</a> </span></span>
LOCATION:
UID:e.2912.2986
SEQUENCE:3
DTSTAMP:20260425T012718Z
URL:https://members.bardstownchamber.com/events/details/covid-19-vaccine-clinic-2986
END:VEVENT

END:VCALENDAR
