BEGIN:VCALENDAR
VERSION:2.0
PRODID:-//ChamberMaster//Event Calendar 2.0//EN
METHOD:PUBLISH
X-PUBLISHED-TTL:P3D
REFRESH-INTERVAL:P3D
CALSCALE:GREGORIAN
BEGIN:VEVENT
DTSTART:20171027T223000Z
DTEND:20171028T020000Z
X-MICROSOFT-CDO-ALLDAYEVENT:FALSE
SUMMARY:Cosplay/Costume Contest
DESCRIPTION:Gamescience Dice Depot is hosting its first Bardstown Costume/Cosplay Contest. Costumes should be family friendly avoiding distasteful gore as it is intended for all ages. Depending on the number of entrants we will award prizes based on age categories and if enough participants even by theme.
X-ALT-DESC;FMTTYPE=text/html:Gamescience Dice Depot is hosting its first Bardstown Costume/Cosplay Contest. Costumes should be family friendly avoiding distasteful gore as it is intended for all ages. Depending on the number of entrants we will award prizes based on age categories and if enough participants even by theme.
LOCATION:Gamescience Dice Depot 601 W Stephen Foster Ave Suite 16 Bardstown KY 40004
UID:e.2912.1388
SEQUENCE:3
DTSTAMP:20260424T093105Z
URL:https://members.bardstownchamber.com/events/details/cosplay-costume-contest-1388
END:VEVENT

END:VCALENDAR
