BEGIN:VCALENDAR
VERSION:2.0
PRODID:-//ChamberMaster//Event Calendar 2.0//EN
METHOD:PUBLISH
X-PUBLISHED-TTL:P3D
REFRESH-INTERVAL:P3D
CALSCALE:GREGORIAN
BEGIN:VEVENT
DTSTART:20180531T210000Z
DTEND:20180531T220000Z
X-MICROSOFT-CDO-ALLDAYEVENT:FALSE
SUMMARY:Conversations with Constituents
DESCRIPTION:Have a question about what's going on in Washington\, D.C? Having trouble with a federal agency? Join Congressman Brett Guthrie for Conversations with Constituents in Nelson County
X-ALT-DESC;FMTTYPE=text/html:Have a question about what&#39\;s going on in Washington\, D.C? Having trouble with a federal agency? Join Congressman Brett Guthrie for Conversations with Constituents in Nelson County
LOCATION:Nelson County Fiscal Court One Court Square Bardstown\, KY 40004
UID:e.2912.1506
SEQUENCE:3
DTSTAMP:20260420T023023Z
URL:https://members.bardstownchamber.com/events/details/conversations-with-constituents-1506
END:VEVENT

END:VCALENDAR
