BEGIN:VCALENDAR
VERSION:2.0
PRODID:-//ChamberMaster//Event Calendar 2.0//EN
METHOD:PUBLISH
X-PUBLISHED-TTL:P3D
REFRESH-INTERVAL:P3D
CALSCALE:GREGORIAN
BEGIN:VEVENT
DTSTART:20191016T210000Z
DTEND:20191016T220000Z
X-MICROSOFT-CDO-ALLDAYEVENT:FALSE
SUMMARY:Connect - Business After Hours/ October 2019 Physical Therapy Associates
DESCRIPTION:Member Benefit: \n\nThe 5:01 gives our members a place to network with other business members as well as learn about all that the Sponsors business has to offer.\n\n\n\nPhysical Therapy Associates\, INC has a long history of serving the community. In 2002\, Guy Wallace opened the first office in Elizabethtown\, Kentucky. Since that time\, PT Associates\, INC. has grown to six offices in locations surrounding Hardin County. In addition to Elizabethtown\, we currently have offices in Hodgenville\, Radcliff\, Bardstown\, Brandenburg\, and Louisville.
X-ALT-DESC;FMTTYPE=text/html:<strong><span style="font-family:calibri\,sans-serif\;"><span style="font-size:11.0pt\;">Member Benefit: </span></span></strong><br />\n<span style="font-family:calibri\,sans-serif\;"><span style="font-size:11.0pt\;">The 5:01 gives our members a place to network with other business members as well as learn about all that the Sponsors business has to offer.</span></span><br />\n<br />\n<span style="color: rgb(85\, 85\, 85)\; font-family: Arial\; font-size: 16px\; background-color: rgb(255\, 255\, 255)\;">Physical Therapy Associates\, INC has a long history of serving the community. In 2002\, Guy Wallace opened the first office in Elizabethtown\, Kentucky. Since that time\, PT Associates\, INC. has grown to six offices in locations surrounding Hardin County. In addition to Elizabethtown\, we currently have offices in Hodgenville\, Radcliff\, Bardstown\, Brandenburg\, and Louisville.</span><br />\n&nbsp\;
LOCATION:44 Lincoln Way Bardstown\, Kentucky
UID:e.2912.1759
SEQUENCE:3
DTSTAMP:20260419T150055Z
URL:https://members.bardstownchamber.com/events/details/connect-business-after-hours-october-2019-physical-therapy-associates-1759
END:VEVENT

END:VCALENDAR
