BEGIN:VCALENDAR
VERSION:2.0
PRODID:-//ChamberMaster//Event Calendar 2.0//EN
METHOD:PUBLISH
X-PUBLISHED-TTL:P3D
REFRESH-INTERVAL:P3D
CALSCALE:GREGORIAN
BEGIN:VEVENT
DTSTART:20190821T210000Z
DTEND:20190821T220000Z
X-MICROSOFT-CDO-ALLDAYEVENT:FALSE
SUMMARY:Connect - Business After Hours August 2019 Demaree & Hubbard
DESCRIPTION:Member Benefit:\n\nThe Connect gives our members a place to network with other business members as well as learn about all that the Sponsors business has to offer.\n\n\n\nSince 1919\, we've provided professional reliable real estate services that have helped so many folks to make Bardstown and Nelson County a place they're proud to call Home.  You need the most advanced approach to providing information needed to successfully complete your real estate transaction.
X-ALT-DESC;FMTTYPE=text/html:<span style="font-family:arial\;">Member Benefit:<br />\nThe Connect gives our members a place to network with other business members as well as learn about all that the Sponsors business has to offer.<br />\n<br />\n<span style="color: rgb(51\, 51\, 51)\;">Since 1919\, we&rsquo\;ve provided professional reliable real estate services that have helped so many folks to make Bardstown and Nelson County a place they&rsquo\;re proud to call Home. &nbsp\;You need the most advanced approach to providing information needed to successfully complete your real estate transaction.</span></span>
LOCATION:111 Sylvan Dr\, Bardstown\, KY 40004
UID:e.2912.1752
SEQUENCE:3
DTSTAMP:20260419T114814Z
URL:https://members.bardstownchamber.com/events/details/connect-business-after-hours-august-2019-demaree-hubbard-1752
END:VEVENT

END:VCALENDAR
