BEGIN:VCALENDAR
VERSION:2.0
PRODID:-//ChamberMaster//Event Calendar 2.0//EN
METHOD:PUBLISH
X-PUBLISHED-TTL:P3D
REFRESH-INTERVAL:P3D
CALSCALE:GREGORIAN
BEGIN:VEVENT
DTSTART:20190925T210000Z
DTEND:20190925T220000Z
X-MICROSOFT-CDO-ALLDAYEVENT:FALSE
SUMMARY:Connect - Business After Hours
DESCRIPTION:Member Benefit: \n\nThe Connect gives our members a place to network with other business members as well as learn about all that the Sponsors business has to offer.\n\n CHI Saint Joseph Health is a 52-bed facility located in Bardstown\, Kentucky. At Flaget Memorial Hospital\, we are committed to providing the highest quality of care and are guided by our Mission and Core Values of Reverence\, Integrity\, Compassion and Excellence.
X-ALT-DESC;FMTTYPE=text/html:<span style="font-size:18px\;"><span style="font-family:arial\;"><strong>Member Benefit: </strong><br />\nThe Connect gives our members a place to network with other business members as well as learn about all that the Sponsors business has to offer.</span><br />\n<span style="color: rgb(92\, 92\, 92)\; font-family: &quot\;Maven Pro&quot\;\, sans-serif\; background-color: rgb(255\, 255\, 255)\;">&nbsp\;CHI Saint Joseph Health is a 52-bed facility located in Bardstown\, Kentucky.&nbsp\;</span><span style="color: rgb(92\, 92\, 92)\; font-family: &quot\;Maven Pro&quot\;\, sans-serif\; background-color: rgb(255\, 255\, 255)\;">At Flaget Memorial Hospital\, we are committed to providing the highest quality of care and are guided by our&nbsp\;</span><a href="https://www.chisaintjosephhealth.org/chi-saint-joseph-health-about-us" style="box-sizing: border-box\; background: 0px 0px rgb(255\, 255\, 255)\; color: rgb(66\, 139\, 202)\; text-decoration-line: none\; font-family: &quot\;Maven Pro&quot\;\, sans-serif\; font-size: 17px\;">Mission and Core Values</a><span style="color: rgb(92\, 92\, 92)\; font-family: &quot\;Maven Pro&quot\;\, sans-serif\; background-color: rgb(255\, 255\, 255)\;">&nbsp\;of Reverence\, Integrity\, Compassion and Excellence.</span><span style="color: rgb(92\, 92\, 92)\; font-family: &quot\;Maven Pro&quot\;\, sans-serif\; background-color: rgb(255\, 255\, 255)\;">&nbsp\;</span></span>
LOCATION:CHI Saint Joseph Health - Flaget Memorial Hospital 4305 New Shepherdsville Rd. Bardstown\, KY 40004
UID:e.2912.1754
SEQUENCE:3
DTSTAMP:20260419T145337Z
URL:https://members.bardstownchamber.com/events/details/connect-business-after-hours-1754
END:VEVENT

END:VCALENDAR
