BEGIN:VCALENDAR
VERSION:2.0
PRODID:-//ChamberMaster//Event Calendar 2.0//EN
METHOD:PUBLISH
X-PUBLISHED-TTL:P3D
REFRESH-INTERVAL:P3D
CALSCALE:GREGORIAN
BEGIN:VEVENT
DTSTART:20180819T130000Z
DTEND:20180819T210000Z
X-MICROSOFT-CDO-ALLDAYEVENT:FALSE
SUMMARY:Concealed Carry Class
DESCRIPTION:Kentucky Gun Co. CCDW class will be held Sunday August 19th\, 2018 from 9am to 5pm. If you have additional questions please call Mike\, our CCDW Certified Instructor\, at 502-507-7353.\n\nYou will need to bring\n\n1) Handgun\n\n2) Ear Protection\n\n3) Eye Protection\n\n4) Cleaning Kit\n\n5) 1 - box of Ammuntion (BRASS ONLY)\n\nClass is $75.00 + $10.00 Range Fee\n\nStudents will receive a gift card for 1/2 hour range time for use at their convenience.
X-ALT-DESC;FMTTYPE=text/html:<p style="box-sizing: border-box\; margin: 0px 0px 10px\; color: rgb(115\, 115\, 115)\; font-family: Arial\, sans-serif\; font-size: 16px\; background-color: rgb(255\, 255\, 255)\;">Kentucky Gun Co. CCDW class will be held&nbsp\;<span style="box-sizing: border-box\; font-weight: 700\;"><font color="blue" style="box-sizing: border-box\;">Sunday August 19th\, 2018</font></span>&nbsp\;from 9am to 5pm. If you have additional questions please call Mike\, our CCDW Certified Instructor\, at 502-507-7353.</p>\n\n<p style="box-sizing: border-box\; margin: 0px 0px 10px\; color: rgb(115\, 115\, 115)\; font-family: Arial\, sans-serif\; font-size: 16px\; background-color: rgb(255\, 255\, 255)\;">You will need to bring</p>\n\n<p style="box-sizing: border-box\; margin: 0px 0px 10px\; color: rgb(115\, 115\, 115)\; font-family: Arial\, sans-serif\; font-size: 16px\; background-color: rgb(255\, 255\, 255)\;">1) Handgun</p>\n\n<p style="box-sizing: border-box\; margin: 0px 0px 10px\; color: rgb(115\, 115\, 115)\; font-family: Arial\, sans-serif\; font-size: 16px\; background-color: rgb(255\, 255\, 255)\;">2) Ear Protection</p>\n\n<p style="box-sizing: border-box\; margin: 0px 0px 10px\; color: rgb(115\, 115\, 115)\; font-family: Arial\, sans-serif\; font-size: 16px\; background-color: rgb(255\, 255\, 255)\;">3) Eye Protection</p>\n\n<p style="box-sizing: border-box\; margin: 0px 0px 10px\; color: rgb(115\, 115\, 115)\; font-family: Arial\, sans-serif\; font-size: 16px\; background-color: rgb(255\, 255\, 255)\;">4) Cleaning Kit</p>\n\n<p style="box-sizing: border-box\; margin: 0px 0px 10px\; color: rgb(115\, 115\, 115)\; font-family: Arial\, sans-serif\; font-size: 16px\; background-color: rgb(255\, 255\, 255)\;">5) 1 - box of Ammuntion&nbsp\;<font color="blue" style="box-sizing: border-box\;">(BRASS ONLY)</font></p>\n\n<p style="box-sizing: border-box\; margin: 0px 0px 10px\; color: rgb(115\, 115\, 115)\; font-family: Arial\, sans-serif\; font-size: 16px\; background-color: rgb(255\, 255\, 255)\;">Class is $75.00 + $10.00 Range Fee</p>\n\n<p style="box-sizing: border-box\; margin: 0px 0px 10px\; color: rgb(115\, 115\, 115)\; font-family: Arial\, sans-serif\; font-size: 16px\; background-color: rgb(255\, 255\, 255)\;">Students will receive a gift card for 1/2 hour range time for use at their convenience.</p>\n
LOCATION:
UID:e.2912.1571
SEQUENCE:3
DTSTAMP:20260419T211516Z
URL:https://members.bardstownchamber.com/events/details/concealed-carry-class-1571
END:VEVENT

END:VCALENDAR
