BEGIN:VCALENDAR
VERSION:2.0
PRODID:-//ChamberMaster//Event Calendar 2.0//EN
METHOD:PUBLISH
X-PUBLISHED-TTL:P3D
REFRESH-INTERVAL:P3D
CALSCALE:GREGORIAN
BEGIN:VEVENT
DTSTART:20180512T170000Z
DTEND:20180512T200000Z
X-MICROSOFT-CDO-ALLDAYEVENT:FALSE
SUMMARY:Community Outreach Fair/ Blood Drive" KY Blood Center"
DESCRIPTION:Signature HealthCare at Colonial is gearing up for our first Community Outreach Fair/Blood Drive to be held on Saturday May 12\, 2018 from 1-4pm. This event is to educate our community on the available resources. We are reaching out to you in hopes that you would be willing to support our efforts to enhance our society on some very important topics.
X-ALT-DESC;FMTTYPE=text/html:Signature HealthCare at Colonial is gearing up for our first Community Outreach Fair/Blood Drive to be held on Saturday May 12\, 2018 from 1-4pm. This event is to educate our community on the available resources. We are reaching out to you in hopes that you would be willing to support our efforts to enhance our society on some very important topics.
LOCATION:Abraham Lincoln Post 167 Bardstown\, Kentucky 40004
UID:e.2912.1451
SEQUENCE:3
DTSTAMP:20260420T023440Z
URL:https://members.bardstownchamber.com/events/details/community-outreach-fair-blood-drive-ky-blood-center-1451
END:VEVENT

END:VCALENDAR
