BEGIN:VCALENDAR
VERSION:2.0
PRODID:-//ChamberMaster//Event Calendar 2.0//EN
METHOD:PUBLISH
X-PUBLISHED-TTL:P3D
REFRESH-INTERVAL:P3D
CALSCALE:GREGORIAN
BEGIN:VEVENT
DTSTART:20191019T140000Z
DTEND:20191020T200000Z
X-MICROSOFT-CDO-ALLDAYEVENT:FALSE
SUMMARY:ColorFest at Bernheim
DESCRIPTION:Celebrate the fall season at ColorFest   a family favorite! Visitors can slingshot pumpkins\, navigate the hay maze\, make mud pies\, and enjoy the splendor of Bernheim's colorful fall landscape. Other highlights include the Forest Giants in a Giant Forest\, live music\, hands-on nature activities\, unique local foods\, Kentucky arts and craft vendors\, and more.\n\n\n\nColorFest is a My Big Little Adventure event. Follow the signs for MBLA activities. \n\n\n\nColorFest is a free event. $10 per car environmental impact fee still applies to non-members for entry. Select activities do have a small fee.
X-ALT-DESC;FMTTYPE=text/html:<span style="color: rgb(29\, 33\, 41)\; font-family: Helvetica\, Arial\, sans-serif\; font-size: 14px\; white-space: pre-wrap\; background-color: rgb(255\, 255\, 255)\;">Celebrate the fall season at ColorFest &ndash\; a family favorite! Visitors can slingshot pumpkins\, navigate the hay maze\, make mud pies\, and enjoy the splendor of Bernheim&rsquo\;s colorful fall landscape. Other highlights include the Forest Giants in a Giant Forest\, live music\, hands-on nature activities\, unique local foods\, Kentucky arts and craft vendors\, and more.</span><br style="color: rgb(29\, 33\, 41)\; font-family: Helvetica\, Arial\, sans-serif\; font-size: 14px\; white-space: pre-wrap\; background-color: rgb(255\, 255\, 255)\;" />\n<br style="color: rgb(29\, 33\, 41)\; font-family: Helvetica\, Arial\, sans-serif\; font-size: 14px\; white-space: pre-wrap\; background-color: rgb(255\, 255\, 255)\;" />\n<span style="color: rgb(29\, 33\, 41)\; font-family: Helvetica\, Arial\, sans-serif\; font-size: 14px\; white-space: pre-wrap\; background-color: rgb(255\, 255\, 255)\;">ColorFest is a My Big Little Adventure event. Follow the signs for MBLA activities. </span><br style="color: rgb(29\, 33\, 41)\; font-family: Helvetica\, Arial\, sans-serif\; font-size: 14px\; white-space: pre-wrap\; background-color: rgb(255\, 255\, 255)\;" />\n<br style="color: rgb(29\, 33\, 41)\; font-family: Helvetica\, Arial\, sans-serif\; font-size: 14px\; white-space: pre-wrap\; background-color: rgb(255\, 255\, 255)\;" />\n<span style="color: rgb(29\, 33\, 41)\; font-family: Helvetica\, Arial\, sans-serif\; font-size: 14px\; white-space: pre-wrap\; background-color: rgb(255\, 255\, 255)\;">ColorFest is a free event. $10 per car environmental impact fee still applies to non-members for entry. Select activities do have a small fee.</span>
LOCATION:
UID:e.2912.1800
SEQUENCE:3
DTSTAMP:20260419T145435Z
URL:https://members.bardstownchamber.com/events/details/colorfest-at-bernheim-1800
END:VEVENT

END:VCALENDAR
