BEGIN:VCALENDAR
VERSION:2.0
PRODID:-//ChamberMaster//Event Calendar 2.0//EN
METHOD:PUBLISH
X-PUBLISHED-TTL:P3D
REFRESH-INTERVAL:P3D
CALSCALE:GREGORIAN
BEGIN:VEVENT
DTSTART:20181020T140000Z
DTEND:20181021T210000Z
X-MICROSOFT-CDO-ALLDAYEVENT:FALSE
SUMMARY:ColorFest at Bernheim
DESCRIPTION:Celebrate the fall season at ColorFest   a family favorite! Visitors can slingshot pumpkins\, navigate the hay maze\, make mud pies\, and enjoy a hayride in the splendor of Bernheim's colorful fall landscape. Other highlights include live music\, hands-on nature activities\, unique local foods\, Kentucky arts and craft vendors\, and more.  ColorFest is a free event. $10 per car environmental impact fee still applies to non-members. Select activities do have a small fee.
X-ALT-DESC;FMTTYPE=text/html:Celebrate the fall season at ColorFest &ndash\; a family favorite! Visitors can slingshot pumpkins\, navigate the hay maze\, make mud pies\, and enjoy a hayride in the splendor of Bernheim&rsquo\;s colorful fall landscape. Other highlights include live music\, hands-on nature activities\, unique local foods\, Kentucky arts and craft vendors\, and more. &nbsp\;ColorFest is a free event. $10 per car environmental impact fee still applies to non-members. Select activities do have a small fee.
LOCATION:Bernheim Forest and Arboretum Forest
UID:e.2912.1616
SEQUENCE:3
DTSTAMP:20260419T194508Z
URL:https://members.bardstownchamber.com/events/details/colorfest-at-bernheim-1616
END:VEVENT

END:VCALENDAR
