BEGIN:VCALENDAR
VERSION:2.0
PRODID:-//ChamberMaster//Event Calendar 2.0//EN
METHOD:PUBLISH
X-PUBLISHED-TTL:P3D
REFRESH-INTERVAL:P3D
CALSCALE:GREGORIAN
BEGIN:VEVENT
DTSTART:20180526T220000Z
DTEND:20180527T010000Z
X-MICROSOFT-CDO-ALLDAYEVENT:FALSE
SUMMARY:Clay Harned
DESCRIPTION:clock\n				\n				\n				\n				\n				\n				 \n\n				\n				\n				Saturday\, May 26 at 6 PM - 9 PM\n\n				 \n				\n				\n				\n				\n				\n			\n		\n	\n	\n	\n	\n	\n	\n		\n			\n				\n				\n				 \n\n				pin\n				\n				\n				\n				\n				\n				\n				 \n\n				\n				Forest Edge Winery\n\n				1910 Clermont Rd\, Shepherdsville\, Kentucky 40165
X-ALT-DESC;FMTTYPE=text/html:<ul class="uiList _4kg _4ks" style="list-style-type: none\; margin: 0px\; padding: 0px\; color: rgb(29\, 33\, 41)\; font-family: Helvetica\, Arial\, sans-serif\; font-size: 12px\; background-color: rgb(255\, 255\, 255)\;">\n	<li class="_3slj" style="border-width: 0px\; border-color: transparent\; border-style: solid\;">\n	<div class="_36hm" style="position: relative\; font-family: inherit\;">\n	<table cellpadding="0" cellspacing="0" class="uiGrid _51mz" style="border: 0px\; border-collapse: collapse\; border-spacing: 0px\;">\n		<tbody>\n			<tr class="_51mx">\n				<td class="_51m- _phw" style="font-family: inherit\; font-size: 12px\; padding: 0px\;">\n				<div aria-hidden="true" class="_6a" style="display: inline-block\; font-family: inherit\;">\n				<div class="_6a _6b" style="display: inline-block\; vertical-align: middle\; font-family: inherit\;"><i class="_ohg img sp_H9pzGrhptNk sx_48d272" style="background-image: url(&quot\;/rsrc.php/v3/ye/r/FCXd__-w4Gh.png&quot\;)\; background-size: auto\; background-repeat: no-repeat\; display: block\; height: 16px\; width: 16px\; background-position: -17px -520px\; margin: 0px 10px 0px 12px\;"><u style="clip: rect(1px\, 1px\, 1px\, 1px)\; height: 1px\; left: auto\; overflow: hidden\; position: absolute\; white-space: nowrap\; width: 1px\;">clock</u></i></div>\n				</div>\n				</td>\n				<td class="_51m- _4930 _phw _51mw" style="font-family: inherit\; font-size: 12px\; padding: 0px\; align-items: center\; display: flex\; flex-direction: row\; width: 456px\;">\n				<div class="_phw" style="padding: 8px 0px\; font-family: inherit\;">\n				<div class="_6a" style="display: inline-block\; font-family: inherit\;">\n				<div class="_6a _6b" style="display: inline-block\; vertical-align: middle\; font-family: inherit\; height: 18px\;">&nbsp\;</div>\n\n				<div class="_6a _6b" style="display: inline-block\; vertical-align: middle\; font-family: inherit\;">\n				<div class="_xkh" style="margin: 2px 0px\; font-family: inherit\;">\n				<div class="_publicProdFeedInfo__timeRowTitle _5xhk" content="2018-05-26T15:00:00-07:00 to 2018-05-26T18:00:00-07:00" style="color: rgb(75\, 79\, 86)\; font-family: inherit\; font-size: 14px\;"><span style="font-family: inherit\;">Saturday\, May 26</span>&nbsp\;at&nbsp\;<span style="font-family: inherit\;">6 PM</span>&nbsp\;-&nbsp\;<span style="font-family: inherit\;">9 PM</span></div>\n\n				<div class="_5xhp fsm fwn fcg" style="color: rgb(144\, 148\, 156)\; max-width: 376px\; overflow: hidden\; text-overflow: ellipsis\; white-space: nowrap\; font-family: inherit\;">&nbsp\;</div>\n				</div>\n				</div>\n				</div>\n				</div>\n				</td>\n			</tr>\n		</tbody>\n	</table>\n	</div>\n	</li>\n	<li class="_3xd0 _3slj" style="border-width: 1px 0px 0px\; border-color: transparent\; border-style: solid\;">\n	<div class="_36hm _5cmn" id="u_fetchstream_86_c" style="position: relative\; font-family: inherit\;">\n	<table cellpadding="0" cellspacing="0" class="uiGrid _51mz" style="border: 0px\; border-collapse: collapse\; border-spacing: 0px\;">\n		<tbody>\n			<tr class="_51mx">\n				<td class="_51m- _phw" style="font-family: inherit\; font-size: 12px\; padding: 0px\;">\n				<div aria-hidden="true" class="_6a" style="display: inline-block\; font-family: inherit\;">\n				<div class="_6a _6b" style="display: inline-block\; vertical-align: middle\; font-family: inherit\; height: 32px\;">&nbsp\;</div>\n\n				<div class="_6a _6b" style="display: inline-block\; vertical-align: middle\; font-family: inherit\;"><i class="_ohg img sp_s5BhN-MxGcz sx_a00c86" style="background-image: url(&quot\;/rsrc.php/v3/ye/r/vVLzxYjuVMJ.png&quot\;)\; background-size: auto\; background-repeat: no-repeat\; display: block\; height: 16px\; width: 16px\; background-position: 0px -92px\; margin: 0px 10px 0px 12px\;"><u style="clip: rect(1px\, 1px\, 1px\, 1px)\; height: 1px\; left: auto\; overflow: hidden\; position: absolute\; white-space: nowrap\; width: 1px\;">pin</u></i></div>\n				</div>\n				</td>\n				<td class="_51m- _51mw" style="font-family: inherit\; font-size: 12px\; padding-right: 0px\; padding-top: 0px\; padding-bottom: 0px\;">\n				<div class="_4930" style="align-items: center\; display: flex\; flex-direction: row\; width: 456px\; font-family: inherit\;">\n				<div class="_4dpf _phw" style="padding: 8px 0px\; flex-grow: 1\; font-family: inherit\;">\n				<div class="_6a" style="display: inline-block\; font-family: inherit\;">\n				<div class="_6a _6b" style="display: inline-block\; vertical-align: middle\; font-family: inherit\; height: 32px\;">&nbsp\;</div>\n\n				<div class="_6a _6b" style="display: inline-block\; vertical-align: middle\; font-family: inherit\;">\n				<div class="_xkh" style="margin: 2px 0px\; font-family: inherit\;"><a class="_5xhk" data-hovercard="/ajax/hovercard/page.php?id=195899087113859" data-hovercard-prefer-more-content-show="1" href="https://www.facebook.com/pages/Forest-Edge-Winery/195899087113859" id="u_fetchstream_86_d" style="color: rgb(75\, 79\, 86)\; cursor: pointer\; text-decoration-line: none\; position: relative\; z-index: 2\; font-family: inherit\; font-size: 14px\;">Forest Edge Winery</a>\n\n				<div class="_5xhp fsm fwn fcg" style="color: rgb(144\, 148\, 156)\; max-width: 376px\; overflow: hidden\; text-overflow: ellipsis\; white-space: nowrap\; font-family: inherit\;">1910 Clermont Rd\, Shepherdsville\, Kentucky 40165</div>\n				</div>\n				</div>\n				</div>\n				</div>\n				</div>\n				</td>\n			</tr>\n		</tbody>\n	</table>\n	</div>\n	</li>\n</ul>\n
LOCATION:
UID:e.2912.1473
SEQUENCE:3
DTSTAMP:20260420T022833Z
URL:https://members.bardstownchamber.com/events/details/clay-harned-1473
END:VEVENT

END:VCALENDAR
