BEGIN:VCALENDAR
VERSION:2.0
PRODID:-//ChamberMaster//Event Calendar 2.0//EN
METHOD:PUBLISH
X-PUBLISHED-TTL:P3D
REFRESH-INTERVAL:P3D
CALSCALE:GREGORIAN
BEGIN:VEVENT
DTSTART:20180508T230000Z
DTEND:20180509T000000Z
X-MICROSOFT-CDO-ALLDAYEVENT:FALSE
SUMMARY:City Council Meeting
DESCRIPTION:The City of Bardstown is governed by a Mayor and a City Council composed of six members. These leaders are selected at large by city residents in non-partisan elections. The mayor's term of office is four years\, while council members serve a two-year term.\n\nThe mayor and council meet in regular session at 7:00 p.m. on the second and fourth Tuesday of every month. A working session is held on the first Tuesday of each month at 5:00pm. The meetings take place in the Council Chambers at the City Hall Annex Building\, 220 North Fifth Street - Xavier Dr.
X-ALT-DESC;FMTTYPE=text/html:<p style="box-sizing: border-box\; margin: 0px 0px 30px\; color: rgb(32\, 57\, 71)\; font-family: Lato\, sans-serif\; font-size: 16px\; background-color: rgb(255\, 255\, 255)\;">The City of Bardstown is governed by a Mayor and a City Council composed of six members. These leaders are selected at large by city residents in non-partisan elections. The mayor&#39\;s term of office is four years\, while council members serve a two-year term.</p>\n\n<p style="box-sizing: border-box\; margin: 0px 0px 30px\; color: rgb(32\, 57\, 71)\; font-family: Lato\, sans-serif\; font-size: 16px\; background-color: rgb(255\, 255\, 255)\;">The mayor and council meet in regular session at 7:00 p.m. on the second and fourth Tuesday of every month. A working session is held on the first Tuesday of each month at 5:00pm. The meetings take place in the Council Chambers at the City Hall Annex Building\, 220 North Fifth Street - Xavier Dr.</p>\n
LOCATION:
UID:e.2912.1463
SEQUENCE:3
DTSTAMP:20260420T010825Z
URL:https://members.bardstownchamber.com/events/details/city-council-meeting-1463
END:VEVENT

END:VCALENDAR
