BEGIN:VCALENDAR
VERSION:2.0
PRODID:-//ChamberMaster//Event Calendar 2.0//EN
METHOD:PUBLISH
X-PUBLISHED-TTL:P3D
REFRESH-INTERVAL:P3D
CALSCALE:GREGORIAN
BEGIN:VEVENT
DTSTART:20221020T160000Z
DTEND:20221020T170000Z
X-MICROSOFT-CDO-ALLDAYEVENT:FALSE
SUMMARY:Christy's Collections & Mammy's General Store Ribbon Cutting
DESCRIPTION:Join us for a Ribbon Cutting! \n\n\n\nChristy's Collections & Mammy's General Store\n\n\n\n97 West Flaget St.\,\n\nBardstown\, KY 40004\n\n\n\nOctober 20th\, 2022\n\n12:00 pm
X-ALT-DESC;FMTTYPE=text/html:<span style="color: rgb(51\, 51\, 51)\; background-color: rgb(255\, 255\, 255)\; font-family: arial\; font-size: 26px\;">Join us for a Ribbon Cutting!&nbsp\;</span><br style="color: rgb(51\, 51\, 51)\; font-family: sans-serif\, Arial\, Verdana\, &quot\;Trebuchet MS&quot\;\; background-color: rgb(255\, 255\, 255)\; font-size: 26px\;" />\n<br style="color: rgb(51\, 51\, 51)\; font-family: sans-serif\, Arial\, Verdana\, &quot\;Trebuchet MS&quot\;\; background-color: rgb(255\, 255\, 255)\; font-size: 26px\;" />\n<font face="arial"><span style="font-size: 26px\;">Christy&#39\;s Collections &amp\; Mammy&#39\;s General Store</span></font><br />\n<br style="color: rgb(51\, 51\, 51)\; background-color: rgb(255\, 255\, 255)\; font-family: arial\; font-size: 26px\;" />\n<font face="arial" style="color: rgb(51\, 51\, 51)\; font-size: 13px\;"><span style="font-size: 26px\;">97 West Flaget St.\,</span></font><br style="color: rgb(51\, 51\, 51)\; font-family: sans-serif\, Arial\, Verdana\, &quot\;Trebuchet MS&quot\;\; background-color: rgb(255\, 255\, 255)\; font-size: 26px\;" />\n<span style="color: rgb(51\, 51\, 51)\; background-color: rgb(255\, 255\, 255)\; font-family: arial\; font-size: 26px\;">Bardstown\, KY 40004</span><br style="color: rgb(51\, 51\, 51)\; font-family: sans-serif\, Arial\, Verdana\, &quot\;Trebuchet MS&quot\;\; background-color: rgb(255\, 255\, 255)\; font-size: 26px\;" />\n<br style="color: rgb(51\, 51\, 51)\; font-family: sans-serif\, Arial\, Verdana\, &quot\;Trebuchet MS&quot\;\; background-color: rgb(255\, 255\, 255)\; font-size: 26px\;" />\n<span style="color: rgb(51\, 51\, 51)\; background-color: rgb(255\, 255\, 255)\; font-family: arial\; font-size: 26px\;">October 20th\, 2022</span><br style="color: rgb(51\, 51\, 51)\; font-family: sans-serif\, Arial\, Verdana\, &quot\;Trebuchet MS&quot\;\; background-color: rgb(255\, 255\, 255)\; font-size: 26px\;" />\n<span style="color: rgb(51\, 51\, 51)\; background-color: rgb(255\, 255\, 255)\; font-family: arial\; font-size: 26px\;">12:00 pm</span>
LOCATION:
UID:e.2912.3178
SEQUENCE:3
DTSTAMP:20260419T145544Z
URL:https://members.bardstownchamber.com/events/details/christy-s-collections-mammy-s-general-store-ribbon-cutting-3178
END:VEVENT

END:VCALENDAR
