BEGIN:VCALENDAR
VERSION:2.0
PRODID:-//ChamberMaster//Event Calendar 2.0//EN
METHOD:PUBLISH
X-PUBLISHED-TTL:P3D
REFRESH-INTERVAL:P3D
CALSCALE:GREGORIAN
BEGIN:VEVENT
DTSTART:20191109T190000Z
DTEND:20191110T010000Z
X-MICROSOFT-CDO-ALLDAYEVENT:FALSE
SUMMARY:Christmas Open House
DESCRIPTION:Christmas Open House at The Rustic Rose in Bloomfield! Come see our new holiday decorations\, including several styles of Christmas trees\, wreaths and gifts!
X-ALT-DESC;FMTTYPE=text/html:Christmas Open House at The Rustic Rose in Bloomfield! Come see our new holiday decorations\, including several styles of Christmas trees\, wreaths and gifts!
LOCATION:The Rustic Rose 136 Fairfield Hill Rd Bloomfield\, KY 40008
UID:e.2912.1789
SEQUENCE:3
DTSTAMP:20260419T163421Z
URL:https://members.bardstownchamber.com/events/details/christmas-open-house-1789
END:VEVENT

END:VCALENDAR
