BEGIN:VCALENDAR
VERSION:2.0
PRODID:-//ChamberMaster//Event Calendar 2.0//EN
METHOD:PUBLISH
X-PUBLISHED-TTL:P3D
REFRESH-INTERVAL:P3D
CALSCALE:GREGORIAN
BEGIN:VEVENT
DTSTART:20181208T180000Z
DTEND:20181209T010000Z
X-MICROSOFT-CDO-ALLDAYEVENT:FALSE
SUMMARY:Christmas Home Tours
DESCRIPTION:$15.00 a ticket call 502-348-4877 for questions
X-ALT-DESC;FMTTYPE=text/html:$15.00 a ticket call 502-348-4877 for questions
LOCATION:
UID:e.2912.1638
SEQUENCE:3
DTSTAMP:20260419T145316Z
URL:https://members.bardstownchamber.com/events/details/christmas-home-tours-1638
END:VEVENT

END:VCALENDAR
