BEGIN:VCALENDAR
VERSION:2.0
PRODID:-//ChamberMaster//Event Calendar 2.0//EN
METHOD:PUBLISH
X-PUBLISHED-TTL:P3D
REFRESH-INTERVAL:P3D
CALSCALE:GREGORIAN
BEGIN:VEVENT
DTSTART:20200325T140000Z
DTEND:20200325T180000Z
X-MICROSOFT-CDO-ALLDAYEVENT:FALSE
SUMMARY:CHI Flaget Memorial Hospital Blood Drive
DESCRIPTION:We relish your donation! We need it now more than ever! The need for blood remains constant.\n\nKBC is your local Blood Center operating as a non profit to provide blood to over 70 hospitals in Kentuckiana.\n\nAnd to show our thanks for your life-saving donation\, blood donors will receive a limited edition "I'm kind of a big dill" T-shirt. Donate to save a life at this upcoming KBC blood drive.  \n\n\n\nFlaget Memorial Hospital\n\nWednesday\, 03/25/2020 (10:00 am - 02:00 pm)\n\n4305 New Shepherdsville Rd\n\nNazareth Conference Room\n\nBardstown\, KY 40004
X-ALT-DESC;FMTTYPE=text/html:<p><span style="font-family:helvetica\; font-size:12pt">We relish your donation! We need it now more than ever! The need for blood remains constant.<br />\nKBC is your local Blood Center operating as a non profit to provide blood to over 70 hospitals in Kentuckiana.</span></p>\n\n<p><span style="font-family:helvetica\; font-size:12pt">And to show our thanks for your life-saving donation\, blood donors will receive a limited edition &quot\;I&#39\;m kind of a big dill&quot\; T-shirt. Donate to save a life at this upcoming KBC blood drive.&nbsp\;&nbsp\;</span></p>\n\n<p><br />\n<span style="font-family:helvetica\; font-size:12pt"><strong><a href="https://my.kybloodcenter.org/donor/schedules/drive_schedule/73582">Flaget Memorial Hospital</a></strong><br />\nWednesday\, 03/25/2020 (10:00 am - 02:00 pm)<br />\n4305 New Shepherdsville Rd<br />\nNazareth Conference Room<br />\nBardstown\, KY 40004</span><br />\n&nbsp\;</p>\n
LOCATION:Flaget Memorial Hospital 4305 New Shepherdsville Rd Nazareth Conference Room Bardstown\, KY 40004
UID:e.2912.2846
SEQUENCE:3
DTSTAMP:20260419T225304Z
URL:https://members.bardstownchamber.com/events/details/chi-flaget-memorial-hospital-blood-drive-2846
END:VEVENT

END:VCALENDAR
