BEGIN:VCALENDAR
VERSION:2.0
PRODID:-//ChamberMaster//Event Calendar 2.0//EN
METHOD:PUBLISH
X-PUBLISHED-TTL:P3D
REFRESH-INTERVAL:P3D
CALSCALE:GREGORIAN
BEGIN:VEVENT
DTSTART:20201215T150000Z
DTEND:20201215T190000Z
X-MICROSOFT-CDO-ALLDAYEVENT:FALSE
SUMMARY:CHI Flaget Blood Drive
DESCRIPTION:When you give blood\, you give someone another holiday\, another snowball fight\, and more time with family and loved ones. Make this December one to remember. Give someone the gift of life by donating blood. To help meet the rising demand for CCP\, KBC will test all donations made until December 31 for COVID-19 antibodies. All donors will receive a limited-edition KBC thank you item. Help us save lives by giving blood at this upcoming blood drive. We try to keep a three day supply of blood on the shelves\, and right now\, we urgently need O-\,O+ and A- type blood. Please consider making an appointment and donating blood. Without you\, local patients can't receive the blood they need.
X-ALT-DESC;FMTTYPE=text/html:When you give blood\, you give someone another holiday\, another snowball fight\, and more time with family and loved ones. Make this December one to remember. Give someone the gift of life by donating blood. To help meet the rising demand for CCP\, KBC will test all donations made until December 31 for COVID-19 antibodies. All donors will receive a limited-edition KBC thank you item. Help us save lives by giving blood at this upcoming blood drive. We try to keep a three day supply of blood on the shelves\, and right now\, we urgently need O-\,O+ and A- type blood. Please consider making an appointment and donating blood. Without you\, local patients can&#39\;t receive the blood they need.
LOCATION:CHI Flaget Memorial Hospital 4305 New Shepherdsville Rd Building B - SCN Conference Room Bardstown\, KY 40004
UID:e.2912.2908
SEQUENCE:3
DTSTAMP:20260421T070515Z
URL:https://members.bardstownchamber.com/events/details/chi-flaget-blood-drive-2908
END:VEVENT

END:VCALENDAR
