BEGIN:VCALENDAR
VERSION:2.0
PRODID:-//ChamberMaster//Event Calendar 2.0//EN
METHOD:PUBLISH
X-PUBLISHED-TTL:P3D
REFRESH-INTERVAL:P3D
CALSCALE:GREGORIAN
BEGIN:VEVENT
DTSTART:20170524T150000Z
DTEND:20170524T170000Z
X-MICROSOFT-CDO-ALLDAYEVENT:FALSE
SUMMARY:Chamber Chow Down
DESCRIPTION:The Nelson County Beef Producers will be firing up their grill!\n\nTry these delicious Ribeyes from Boone's Butcher Shop!  \n\nMeals can be pre-ordered by clicking Register Now!
X-ALT-DESC;FMTTYPE=text/html:The Nelson County Beef Producers will be firing up their grill!<br />\nTry these delicious Ribeyes from Boone&#39\;s Butcher Shop! &nbsp\;<br />\nMeals can be pre-ordered by clicking Register Now!
LOCATION:
UID:e.2912.362
SEQUENCE:3
DTSTAMP:20260424T155510Z
URL:https://members.bardstownchamber.com/events/details/chamber-chow-down-362
END:VEVENT

END:VCALENDAR
