BEGIN:VCALENDAR
VERSION:2.0
PRODID:-//ChamberMaster//Event Calendar 2.0//EN
METHOD:PUBLISH
X-PUBLISHED-TTL:P3D
REFRESH-INTERVAL:P3D
CALSCALE:GREGORIAN
BEGIN:VEVENT
DTSTART:20180622T150000Z
DTEND:20180622T170000Z
X-MICROSOFT-CDO-ALLDAYEVENT:FALSE
SUMMARY:Chamber Chow Down 2018
DESCRIPTION:The Nelson County Beef Producers will be firing up their grill!\n\nTry these delicious Ribeyes from Boone's Butcher Shop!  \n\nMeals can be pre-ordered by clicking Register Now!
X-ALT-DESC;FMTTYPE=text/html:The Nelson County Beef Producers will be firing up their grill!<br />\nTry these delicious Ribeyes from Boone&#39\;s Butcher Shop! &nbsp\;<br />\nMeals can be pre-ordered by clicking Register Now!
LOCATION:My Old Kentucky Home State Park 668 Loretta Road Bardstown\, KY 40004
UID:e.2912.1430
SEQUENCE:3
DTSTAMP:20260420T010137Z
URL:https://members.bardstownchamber.com/events/details/chamber-chow-down-2018-1430
END:VEVENT

END:VCALENDAR
