BEGIN:VCALENDAR
VERSION:2.0
PRODID:-//ChamberMaster//Event Calendar 2.0//EN
METHOD:PUBLISH
X-PUBLISHED-TTL:P3D
REFRESH-INTERVAL:P3D
CALSCALE:GREGORIAN
BEGIN:VEVENT
DTSTART:20190117T140000Z
DTEND:20190117T150000Z
X-MICROSOFT-CDO-ALLDAYEVENT:FALSE
SUMMARY:Cargo Solutions Express
DESCRIPTION:Ribbon cutting for Cargo Solutions Express 9:00am\, everyone is welcome.\n\nCargo Solution Express  mission is to be your number one choice for all your transportation needs
X-ALT-DESC;FMTTYPE=text/html:Ribbon cutting for Cargo Solutions Express 9:00am\, everyone is welcome.<br />\n<span style="color: rgb(33\, 37\, 41)\; font-family: -apple-system\, BlinkMacSystemFont\, &quot\;Segoe UI&quot\;\, Roboto\, &quot\;Helvetica Neue&quot\;\, Arial\, sans-serif\, &quot\;Apple Color Emoji&quot\;\, &quot\;Segoe UI Emoji&quot\;\, &quot\;Segoe UI Symbol&quot\;\; text-align: justify\; background-color: rgb(255\, 255\, 255)\;">Cargo Solution Express&nbsp\; mission is to be your number one choice for all your transportation needs</span><br />\n&nbsp\;
LOCATION:935 Chambers Blvd Suite A
UID:e.2912.1655
SEQUENCE:3
DTSTAMP:20260419T132416Z
URL:https://members.bardstownchamber.com/events/details/cargo-solutions-express-1655
END:VEVENT

END:VCALENDAR
