BEGIN:VCALENDAR
VERSION:2.0
PRODID:-//ChamberMaster//Event Calendar 2.0//EN
METHOD:PUBLISH
X-PUBLISHED-TTL:P3D
REFRESH-INTERVAL:P3D
CALSCALE:GREGORIAN
BEGIN:VEVENT
DTSTART;VALUE=DATE:20180823
DTEND;VALUE=DATE:20180826
TRANSP:TRANSPARENT
X-MICROSOFT-CDO-ALLDAYEVENT:TRUE
SUMMARY:Butter Milk Days
DESCRIPTION:The 24rd Anniversary Edition of the Buttermilk Days Celebration will be held this August 23   25th on the Buttermilk Lot across from St. Monica's Church on S. 3rd St in Bardstown\, KY. There will be music by bands and DJs all day\, prizes\, games\, food and craft vendor booths Friday and Saturday and good down home comradery.  This festival is open to the public and will expect to draw approximately 3000 people.  It is Bardstown's best version of a Nelson County Homecoming.  It was designed to bring the Bardstown Community together\, young and old\, black and white\, male and female AND IT WORKS!\n\n \n\nButtermilk is one big "Family Reunion"!  Good food\, good people = Good Times!  This is truly Bardstown's Homecoming.  We hope everyone comes out and enjoys themselves.
X-ALT-DESC;FMTTYPE=text/html:<p style="box-sizing: border-box\; margin: 0px\; padding: 0px\; border: 0px\; outline: 0px\; vertical-align: baseline\; background: rgb(255\, 255\, 255)\; font-size: 18px\; color: rgb(79\, 79\, 79)\; font-family: Roboto\, sans-serif\;"><strong style="box-sizing: border-box\; margin: 0px\; padding: 0px\; border: 0px\; outline: 0px\; vertical-align: baseline\; background: transparent\;">The 24rd Anniversary Edition of the Buttermilk Days Celebration will be held this August 23 &ndash\; 25th on the Buttermilk Lot across from St. Monica&rsquo\;s Church on S. 3rd St in Bardstown\, KY. There will be music by bands and DJs all day\, prizes\, games\, food and craft vendor booths Friday and Saturday and good down home comradery. &nbsp\;This festival is open to the public and will expect to draw approximately 3000 people. &nbsp\;It is Bardstown&rsquo\;s best version of a Nelson County Homecoming. &nbsp\;It was designed to bring the Bardstown Community together\, young and old\, black and white\, male and female&ndash\;AND IT WORKS!</strong></p>\n\n<p style="box-sizing: border-box\; margin: 0px\; padding: 0px\; border: 0px\; outline: 0px\; vertical-align: baseline\; background: rgb(255\, 255\, 255)\; font-size: 18px\; color: rgb(79\, 79\, 79)\; font-family: Roboto\, sans-serif\;">&nbsp\;</p>\n\n<p style="box-sizing: border-box\; margin: 0px\; padding: 0px\; border: 0px\; outline: 0px\; vertical-align: baseline\; background: rgb(255\, 255\, 255)\; font-size: 18px\; color: rgb(79\, 79\, 79)\; font-family: Roboto\, sans-serif\;"><strong style="box-sizing: border-box\; margin: 0px\; padding: 0px\; border: 0px\; outline: 0px\; vertical-align: baseline\; background: transparent\;">Buttermilk is one big &ldquo\;Family Reunion&rdquo\;! &nbsp\;Good food\, good people = Good Times! &nbsp\;This is truly Bardstown&rsquo\;s Homecoming. &nbsp\;We hope everyone comes out and enjoys themselves.</strong></p>\n\n<p style="box-sizing: border-box\; margin: 0px\; padding: 0px\; border: 0px\; outline: 0px\; vertical-align: baseline\; background: rgb(255\, 255\, 255)\; font-size: 18px\; color: rgb(79\, 79\, 79)\; font-family: Roboto\, sans-serif\;">&nbsp\;</p>\n\n<p style="box-sizing: border-box\; margin: 0px\; padding: 0px\; border: 0px\; outline: 0px\; vertical-align: baseline\; background: rgb(255\, 255\, 255)\; font-size: 18px\; color: rgb(79\, 79\, 79)\; font-family: Roboto\, sans-serif\;">&nbsp\;</p>\n
LOCATION:http://buttermilkdaysfestival.com/blog2/
UID:e.2912.1577
SEQUENCE:3
DTSTAMP:20260419T211712Z
URL:https://members.bardstownchamber.com/events/details/butter-milk-days-1577
END:VEVENT

END:VCALENDAR
