BEGIN:VCALENDAR
VERSION:2.0
PRODID:-//ChamberMaster//Event Calendar 2.0//EN
METHOD:PUBLISH
X-PUBLISHED-TTL:P3D
REFRESH-INTERVAL:P3D
CALSCALE:GREGORIAN
BEGIN:VEVENT
DTSTART:20200519T183000Z
DTEND:20200519T193000Z
X-MICROSOFT-CDO-ALLDAYEVENT:FALSE
SUMMARY:Business Updates on Zoom with Channel Six
DESCRIPTION:REGISTRATION REQUIRED!\n\n\n\nShare your business updates on Zoom with Gary White and the Chamber on Channel Six.  Give updates on hours of operation\, new procedures\, etc...  This event will be recorded and aired on Channel Six - Central Kentucky Television.
X-ALT-DESC;FMTTYPE=text/html:REGISTRATION REQUIRED!<br />\n<br />\nShare your business updates on Zoom with Gary White and the Chamber on Channel Six.&nbsp\; Give updates on hours of operation\, new procedures\, etc...&nbsp\; This event will be recorded and aired on Channel Six - Central Kentucky Television.&nbsp\;&nbsp\;
LOCATION:Zoom link will be sent in your registration confirmation.
UID:e.2912.2862
SEQUENCE:3
DTSTAMP:20260420T012155Z
URL:https://members.bardstownchamber.com/events/details/business-updates-on-zoom-with-channel-six-2862
END:VEVENT

END:VCALENDAR
