BEGIN:VCALENDAR
VERSION:2.0
PRODID:-//ChamberMaster//Event Calendar 2.0//EN
METHOD:PUBLISH
X-PUBLISHED-TTL:P3D
REFRESH-INTERVAL:P3D
CALSCALE:GREGORIAN
BEGIN:VEVENT
DTSTART:20181208T140000Z
DTEND:20181208T160000Z
X-MICROSOFT-CDO-ALLDAYEVENT:FALSE
SUMMARY:Breakfast with Bernie the Bear
DESCRIPTION:Breakfast with Bernie Bernheim's Black Bear. Limited space\; registration and payment due by 4 pm the day prior to the start of the program\, register by calling. For more information about the event please visit our website.
X-ALT-DESC;FMTTYPE=text/html:Breakfast with Bernie Bernheim&#39\;s Black Bear. Limited space\; registration and payment due by 4 pm the day prior to the start of the program\, register by calling. For more information about the event please visit our website.
LOCATION:Bernheim Forest\, Visitor Center
UID:e.2912.1643
SEQUENCE:3
DTSTAMP:20260419T145219Z
URL:https://members.bardstownchamber.com/events/details/breakfast-with-bernie-the-bear-1643
END:VEVENT

END:VCALENDAR
