BEGIN:VCALENDAR
VERSION:2.0
PRODID:-//ChamberMaster//Event Calendar 2.0//EN
METHOD:PUBLISH
X-PUBLISHED-TTL:P3D
REFRESH-INTERVAL:P3D
CALSCALE:GREGORIAN
BEGIN:VEVENT
DTSTART:20180711T230000Z
DTEND:20180712T000000Z
X-MICROSOFT-CDO-ALLDAYEVENT:FALSE
SUMMARY:BrainBlast Trivia! Buffalo Wings & Rings
DESCRIPTION:Buffalo Wings & Rings (Bardstown\, KY)\n\n1 hr   \n\n\n\n\n\n\n\n\n\nJoin us tonight for BrainBlast Trivia!\n\nFamily Friendly\, FUN\, Free to play and Prizes to top three teams! 7pm TONIGHT and every Wednesday!
X-ALT-DESC;FMTTYPE=text/html:<div class="s_qie8t-70n u_qie8u3zo6 clearfix" style="margin-bottom: -1px\; zoom: 1\; font-family: Helvetica\, Arial\, sans-serif\; color: rgb(29\, 33\, 41)\; font-size: 12px\; background-color: rgb(255\, 255\, 255)\;">\n<div class="clearfix g_qie8t-82e" style="margin-bottom: -6px\; zoom: 1\; font-family: inherit\;">\n<div class="clearfix _42ef" style="overflow: hidden\; zoom: 1\; font-family: inherit\;">\n<div class="k_qie8t-82h" style="padding-bottom: 6px\; font-family: inherit\;">\n<div style="font-family: inherit\;">\n<div class="_6a _5u5j" style="display: inline-block\; width: 402px\; font-family: inherit\;">\n<div class="_6a _5u5j _6b" style="display: inline-block\; vertical-align: middle\; width: 402px\; font-family: inherit\;">\n<h6 class="_14f3 _14f5 _5pbw _5vra" data-ft="{&quot\;tn&quot\;:&quot\;C&quot\;}" id="js_dyi" style="font-size: 14px\; font-weight: normal\; margin: 0px 0px 2px\; padding: 0px 22px 0px 0px\; line-height: 1.38\; font-family: inherit\;"><span class="fwn fcg" style="color: rgb(97\, 103\, 112)\; font-family: inherit\;"><span class="fwb fcg" data-ft="{&quot\;tn&quot\;:&quot\;k&quot\;}" style="font-weight: 600\; font-family: inherit\;"><a aria-describedby="js_ecj" aria-owns="" data-hovercard="/ajax/hovercard/page.php?id=149676718407034&amp\;extragetparams=%7B%22hc_ref%22%3A%22ARQB7CbMYunbO5mMokLKTnAA1shgJgxmyB-0ou4Yra8lFtWbAzCwGrJJ2LCnu2X_XkY%22%2C%22fref%22%3A%22nf%22%7D" data-hovercard-prefer-more-content-show="1" data-hovercard-referer="ARQB7CbMYunbO5mMokLKTnAA1shgJgxmyB-0ou4Yra8lFtWbAzCwGrJJ2LCnu2X_XkY" href="https://www.facebook.com/BWRBardstown/?hc_ref=ARQB7CbMYunbO5mMokLKTnAA1shgJgxmyB-0ou4Yra8lFtWbAzCwGrJJ2LCnu2X_XkY&amp\;fref=nf" id="js_eck" style="color: rgb(54\, 88\, 153)\; cursor: pointer\; text-decoration-line: none\; font-family: inherit\;">Buffalo Wings &amp\; Rings (Bardstown\, KY)</a></span></span></h6>\n\n<div class="_5pcp _5lel _2jyu _232_" id="feed_subtitle_149676718407034:-1552506546120349162" style="position: relative\; color: rgb(97\, 103\, 112)\; font-family: inherit\;"><span style="font-family: inherit\;"><span class="fsm fwn fcg" style="color: rgb(144\, 148\, 156)\; font-family: inherit\;"><a ajaxify="/BWRBardstown/photos/a.171738596200846.30491.149676718407034/2085511678156852/?type=3&amp\;size=528%2C960&amp\;fbid=2085511678156852&amp\;source=12&amp\;player_origin=unknown" class="_5pcq" href="https://www.facebook.com/BWRBardstown/photos/a.171738596200846.30491.149676718407034/2085511678156852/?type=3" rel="theater" style="color: rgb(97\, 103\, 112)\; cursor: pointer\; text-decoration-line: none\; font-family: inherit\;" target="">1 hr</a></span></span><span aria-hidden="true" role="presentation" style="font-family: inherit\;">&nbsp\;&middot\;&nbsp\;</span></div>\n</div>\n</div>\n</div>\n</div>\n</div>\n</div>\n</div>\n\n<div class="_5pbx userContent _3576" data-ft="{&quot\;tn&quot\;:&quot\;K&quot\;}" id="js_dyk" style="font-size: 14px\; line-height: 1.38\; margin-top: 6px\; font-family: Helvetica\, Arial\, sans-serif\; color: rgb(29\, 33\, 41)\; background-color: rgb(255\, 255\, 255)\;">\n<p style="margin: 0px\; display: inline\; font-family: inherit\;">Join us tonight for&nbsp\;<a aria-describedby="js_e5h" aria-owns="" class="profileLink" data-hovercard="/ajax/hovercard/page.php?id=116044448477570&amp\;extragetparams=%7B%22fref%22%3A%22mentions%22%7D" data-hovercard-prefer-more-content-show="1" href="https://www.facebook.com/BrainBlastTrivia/?fref=mentions" id="js_e5i" style="color: rgb(54\, 88\, 153)\; cursor: pointer\; text-decoration-line: none\; font-family: inherit\;">BrainBlast Trivia</a>!<br />\nFamily Friendly\, FUN\, Free to play and Prizes to top three teams! 7pm TONIGHT and every Wednesday!</p>\n</div>\n
LOCATION:
UID:e.2912.1530
SEQUENCE:3
DTSTAMP:20260419T224729Z
URL:https://members.bardstownchamber.com/events/details/brainblast-trivia-buffalo-wings-rings-1530
END:VEVENT

END:VCALENDAR
