BEGIN:VCALENDAR
VERSION:2.0
PRODID:-//ChamberMaster//Event Calendar 2.0//EN
METHOD:PUBLISH
X-PUBLISHED-TTL:P3D
REFRESH-INTERVAL:P3D
CALSCALE:GREGORIAN
BEGIN:VEVENT
DTSTART:20180914T210000Z
DTEND:20180916T210000Z
X-MICROSOFT-CDO-ALLDAYEVENT:FALSE
SUMMARY:Bourbontowne™
DESCRIPTION:Join us in Bourbontowne  for an opportunity to sip premium Bourbons\, meet and greet various Bourbon dignitaries and hang out with other super fans. A variety of premium Bourbons available for purchase. Adjacent to displays\, vendors and Music on the Lawn.
X-ALT-DESC;FMTTYPE=text/html:Join us in Bourbontowne&trade\; for an opportunity to sip premium Bourbons\, meet and greet various Bourbon dignitaries and hang out with other super fans. A variety of premium Bourbons available for purchase. Adjacent to displays\, vendors and Music on the Lawn.
LOCATION:The Great Lawn (Spalding Hall Lawn)
UID:e.2912.1497
SEQUENCE:3
DTSTAMP:20260419T194259Z
URL:https://members.bardstownchamber.com/events/details/bourbontowne-1497
END:VEVENT

END:VCALENDAR
