BEGIN:VCALENDAR
VERSION:2.0
PRODID:-//ChamberMaster//Event Calendar 2.0//EN
METHOD:PUBLISH
X-PUBLISHED-TTL:P3D
REFRESH-INTERVAL:P3D
CALSCALE:GREGORIAN
BEGIN:VEVENT
DTSTART:20180913T000000Z
DTEND:20180913T020000Z
X-MICROSOFT-CDO-ALLDAYEVENT:FALSE
SUMMARY:Bourbon Trivia at Mammy’s Kitchen
DESCRIPTION:Mammy's Kitchen and Shop Local Bardstown proudly present a night of bourbon trivia during the 2018 Bourbon Festival in historic Bardstown! Think you know more about bourbon than anyone else? Assemble a team of up to 6 and compete to win the crown of Bourbon Trivia Champion of The Bourbon Capitol of the World! Bourbon themed Prizes will be awarded for the winners! Cash bar\, food\, and specialty cocktails will be provided by Mammys Kitchen! This event will be held on Wednesday\, Sept 12th at 8 PM! It is free to attend! Contact Mammys Kitchen to reserve a spot for your team!
X-ALT-DESC;FMTTYPE=text/html:Mammy&rsquo\;s Kitchen and Shop Local Bardstown proudly present a night of bourbon trivia during the 2018 Bourbon Festival in historic Bardstown! Think you know more about bourbon than anyone else? Assemble a team of up to 6 and compete to win the crown of Bourbon Trivia Champion of The Bourbon Capitol of the World! Bourbon themed Prizes will be awarded for the winners! Cash bar\, food\, and specialty cocktails will be provided by Mammys Kitchen! This event will be held on Wednesday\, Sept 12th at 8 PM! It is free to attend! Contact Mammys Kitchen to reserve a spot for your team!
LOCATION:Mammy's Kitchen
UID:e.2912.1563
SEQUENCE:3
DTSTAMP:20260419T211826Z
URL:https://members.bardstownchamber.com/events/details/bourbon-trivia-at-mammy-s-kitchen-1563
END:VEVENT

END:VCALENDAR
