BEGIN:VCALENDAR
VERSION:2.0
PRODID:-//ChamberMaster//Event Calendar 2.0//EN
METHOD:PUBLISH
X-PUBLISHED-TTL:P3D
REFRESH-INTERVAL:P3D
CALSCALE:GREGORIAN
BEGIN:VEVENT
DTSTART:20180913T200000Z
DTEND:20180913T220000Z
X-MICROSOFT-CDO-ALLDAYEVENT:FALSE
SUMMARY:Bourbon Cocktail Mixology™
DESCRIPTION:Sample classic Kentucky Bourbon based cocktails in these individual seminars. Learn techniques and variations to classic recipes. Thursday\, September 13 - Old Fashioned Friday\, September 14 - Manhattan
X-ALT-DESC;FMTTYPE=text/html:Sample classic Kentucky Bourbon based cocktails in these individual seminars. Learn techniques and variations to classic recipes. Thursday\, September 13 - Old Fashioned Friday\, September 14 - Manhattan
LOCATION:Spalding Hall Chapel \, 114 N. Fifth St.\, Bardstown\, KY
UID:e.2912.1491
SEQUENCE:3
DTSTAMP:20260419T195726Z
URL:https://members.bardstownchamber.com/events/details/bourbon-cocktail-mixology-1491
END:VEVENT

END:VCALENDAR
