BEGIN:VCALENDAR
VERSION:2.0
PRODID:-//ChamberMaster//Event Calendar 2.0//EN
METHOD:PUBLISH
X-PUBLISHED-TTL:P3D
REFRESH-INTERVAL:P3D
CALSCALE:GREGORIAN
BEGIN:VEVENT
DTSTART:20180602T010000Z
DTEND:20180602T050000Z
X-MICROSOFT-CDO-ALLDAYEVENT:FALSE
SUMMARY:Bourbon City Beatdown!
DESCRIPTION:Friday June 1st HBE Records Presents Bourbon City BeatDown the Town Vol 1. Hosted by Shane Sk-KillinEm Thomas and Rylon Sweeney's. 2$ Admission great food\, speicals on fireball and jager! Domestic and well speical! Cocktail speical will include Ciroc vodka! Come out support your local rap and see what these guest have to offer!
X-ALT-DESC;FMTTYPE=text/html:<span style="color: rgb(75\, 79\, 86)\; font-family: Helvetica\, Arial\, sans-serif\; font-size: 14px\; background-color: rgb(255\, 255\, 255)\;">Friday June 1st HBE Records Presents Bourbon City BeatDown the Town Vol 1. Hosted by&nbsp\;</span><a data-hovercard="/ajax/hovercard/user.php?id=100012388456766&amp\;extragetparams=%7B%22directed_target_id%22%3A1894857333881779%7D" data-hovercard-prefer-more-content-show="1" href="https://www.facebook.com/SkKillinEm502" style="color: rgb(54\, 88\, 153)\; cursor: pointer\; text-decoration-line: none\; font-family: Helvetica\, Arial\, sans-serif\; font-size: 14px\; background-color: rgb(255\, 255\, 255)\;">Shane Sk-KillinEm Thomas</a><span style="color: rgb(75\, 79\, 86)\; font-family: Helvetica\, Arial\, sans-serif\; font-size: 14px\; background-color: rgb(255\, 255\, 255)\;">&nbsp\;and Rylon Sweeney&#39\;s. 2$ Admission great food\, speicals on fireball and jager! Domestic and well speical! Cocktail speical will include Ciroc vodka! Come out support your local rap and see what these guest have to offer!</span>
LOCATION:
UID:e.2912.1469
SEQUENCE:3
DTSTAMP:20260420T010229Z
URL:https://members.bardstownchamber.com/events/details/bourbon-city-beatdown-1469
END:VEVENT

END:VCALENDAR
