BEGIN:VCALENDAR
VERSION:2.0
PRODID:-//ChamberMaster//Event Calendar 2.0//EN
METHOD:PUBLISH
X-PUBLISHED-TTL:P3D
REFRESH-INTERVAL:P3D
CALSCALE:GREGORIAN
BEGIN:VEVENT
DTSTART:20171026T220000Z
DTEND:20171027T030000Z
X-MICROSOFT-CDO-ALLDAYEVENT:FALSE
SUMMARY:Bourbon City Bark Park Pints for Paws
DESCRIPTION:Pints for Paws will be held at 3rd Street Tap House. This fundraiser will help Bourbon City Bark Park with improvements to the Dog Park. Just Barked\, FRESH and Hog Run BBQ will be on hand to provide food and treats. Bring your dog in costume and have a fun evening.
X-ALT-DESC;FMTTYPE=text/html:Pints for Paws will be held at 3rd Street Tap House. This fundraiser will help Bourbon City Bark Park with improvements to the Dog Park. Just Barked\, FRESH and Hog Run BBQ will be on hand to provide food and treats. Bring your dog in costume and have a fun evening.
LOCATION:3rd Street Tap House on North 3rd
UID:e.2912.1390
SEQUENCE:3
DTSTAMP:20260424T095324Z
URL:https://members.bardstownchamber.com/events/details/bourbon-city-bark-park-pints-for-paws-1390
END:VEVENT

END:VCALENDAR
