BEGIN:VCALENDAR
VERSION:2.0
PRODID:-//ChamberMaster//Event Calendar 2.0//EN
METHOD:PUBLISH
X-PUBLISHED-TTL:P3D
REFRESH-INTERVAL:P3D
CALSCALE:GREGORIAN
BEGIN:VEVENT
DTSTART:20190920T230000Z
DTEND:20190921T035500Z
X-MICROSOFT-CDO-ALLDAYEVENT:FALSE
SUMMARY:Bourbon\, Cigars\, & Jazz®
DESCRIPTION:Enjoy fine cigars paired with fine Bourbons from Heaven Hill including the Larceny\, Evan Williams\, and Elijah Craig families. The evening begins with delicious food and live jazz\, and ends by dancing to the sounds of The Louisville Crashers. Cocktail attire required.
X-ALT-DESC;FMTTYPE=text/html:<span style="color: rgb(29\, 33\, 41)\; font-family: Helvetica\, Arial\, sans-serif\; font-size: 14px\; white-space: pre-wrap\; background-color: rgb(255\, 255\, 255)\;">Enjoy fine cigars paired with fine Bourbons from Heaven Hill including the Larceny\, Evan Williams\, and Elijah Craig families. The evening begins with delicious food and live jazz\, and ends by dancing to the sounds of The Louisville Crashers. Cocktail attire required. </span>
LOCATION:
UID:e.2912.1798
SEQUENCE:3
DTSTAMP:20260419T132544Z
URL:https://members.bardstownchamber.com/events/details/bourbon-cigars-jazz-1798
END:VEVENT

END:VCALENDAR
