BEGIN:VCALENDAR
VERSION:2.0
PRODID:-//ChamberMaster//Event Calendar 2.0//EN
METHOD:PUBLISH
X-PUBLISHED-TTL:P3D
REFRESH-INTERVAL:P3D
CALSCALE:GREGORIAN
BEGIN:VEVENT
DTSTART:20180914T230000Z
DTEND:20180915T040000Z
X-MICROSOFT-CDO-ALLDAYEVENT:FALSE
SUMMARY:Bourbon\, Cigars & Jazz®
DESCRIPTION:Enjoy an evening of fine cigars and fine Bourbon. Bourbon aficionados will savor an array of select Bourbons from Heaven Hill including Larceny and the Evan Williams and Elijah Craig families of Bourbon. You will think you are in New Orleans with the delicious food\, jazz music and dancing under the stars. Cocktail attire.
X-ALT-DESC;FMTTYPE=text/html:Enjoy an evening of fine cigars and fine Bourbon. Bourbon aficionados will savor an array of select Bourbons from Heaven Hill including Larceny and the Evan Williams and Elijah Craig families of Bourbon. You will think you are in New Orleans with the delicious food\, jazz music and dancing under the stars. Cocktail attire.
LOCATION:My Old Kentucky Home State Park\, 501 E. Stephen Foster Ave.\, Bardstown\, KY 40004
UID:e.2912.1498
SEQUENCE:3
DTSTAMP:20260419T194824Z
URL:https://members.bardstownchamber.com/events/details/bourbon-cigars-jazz-1498
END:VEVENT

END:VCALENDAR
