BEGIN:VCALENDAR
VERSION:2.0
PRODID:-//ChamberMaster//Event Calendar 2.0//EN
METHOD:PUBLISH
X-PUBLISHED-TTL:P3D
REFRESH-INTERVAL:P3D
CALSCALE:GREGORIAN
BEGIN:VEVENT
DTSTART:20190921T230000Z
DTEND:20190922T030000Z
X-MICROSOFT-CDO-ALLDAYEVENT:FALSE
SUMMARY:Bottled in Bond Fire
DESCRIPTION:Kick back\, cozy up\, and "bond" with a Bottle of Bourbon around the fire as you enjoy Bottled in Bond Bourbons. Wickland\, the Home of Three Governors\, is the setting for this casual evening that includes history\, music\, and Kentucky cuisine.
X-ALT-DESC;FMTTYPE=text/html:<span style="color: rgb(29\, 33\, 41)\; font-family: Helvetica\, Arial\, sans-serif\; font-size: 14px\; white-space: pre-wrap\; background-color: rgb(255\, 255\, 255)\;">Kick back\, cozy up\, and &ldquo\;bond&rdquo\; with a Bottle of Bourbon around the fire as you enjoy Bottled in Bond Bourbons. Wickland\, the Home of Three Governors\, is the setting for this casual evening that includes history\, music\, and Kentucky cuisine.</span>
LOCATION:
UID:e.2912.1799
SEQUENCE:3
DTSTAMP:20260419T145137Z
URL:https://members.bardstownchamber.com/events/details/bottled-in-bond-fire-1799
END:VEVENT

END:VCALENDAR
