BEGIN:VCALENDAR
VERSION:2.0
PRODID:-//ChamberMaster//Event Calendar 2.0//EN
METHOD:PUBLISH
X-PUBLISHED-TTL:P3D
REFRESH-INTERVAL:P3D
CALSCALE:GREGORIAN
BEGIN:VEVENT
DTSTART:20180915T230000Z
DTEND:20180916T030000Z
X-MICROSOFT-CDO-ALLDAYEVENT:FALSE
SUMMARY:Bottled in Bond Fire
DESCRIPTION:Kick back and cozy up to the bonfires as you enjoy Bottled in Bond Bourbons. Wickland\, the Home of Three Governors\, is the setting for this casual evening that includes history\, music and Kentucky cuisine.
X-ALT-DESC;FMTTYPE=text/html:Kick back and cozy up to the bonfires as you enjoy Bottled in Bond Bourbons. Wickland\, the Home of Three Governors\, is the setting for this casual evening that includes history\, music and Kentucky cuisine.
LOCATION:Wickland \, 550 Bloomfield Ave.\, Bardstown\, KY
UID:e.2912.1500
SEQUENCE:3
DTSTAMP:20260419T194857Z
URL:https://members.bardstownchamber.com/events/details/bottled-in-bond-fire-1500
END:VEVENT

END:VCALENDAR
