BEGIN:VCALENDAR
VERSION:2.0
PRODID:-//ChamberMaster//Event Calendar 2.0//EN
METHOD:PUBLISH
X-PUBLISHED-TTL:P3D
REFRESH-INTERVAL:P3D
CALSCALE:GREGORIAN
BEGIN:VEVENT
DTSTART:20221012T213000Z
DTEND:20221012T223000Z
X-MICROSOFT-CDO-ALLDAYEVENT:FALSE
SUMMARY:BNCC Young Professionals Scout and Scholar Meetup
DESCRIPTION:Join us for an evening of beer\, appetizers\, cornhole\, and networking with other Young Professionals\n\n\n\nOctober 12\, 2022\n\nStarts at 5:30 pm \n\n\n\nSponsored by Scout and Scholar\n\n112 W. Flaget Street \n\nBardstown\, KY  40004\n\n\n\nFREE to Young Professionals \n\n21-40 years old
X-ALT-DESC;FMTTYPE=text/html:<span style="font-family:comic sans ms\;"><span style="font-size:16px\;">Join us for an evening of beer\, appetizers\, cornhole\, and networking with other Young Professionals<br />\n<br />\nOctober 12\, 2022<br />\nStarts at 5:30 pm&nbsp\;<br />\n<br />\nSponsored by Scout and Scholar<br />\n112 W. Flaget Street&nbsp\;<br />\nBardstown\, KY&nbsp\; 40004<br />\n<br />\nFREE to Young Professionals&nbsp\;<br />\n21-40 years old&nbsp\;</span></span>
LOCATION:Scout and Scholar 112 W. Flaget Street Bardstown\, KY 40004
UID:e.2912.3174
SEQUENCE:3
DTSTAMP:20260419T145910Z
URL:https://members.bardstownchamber.com/events/details/bncc-young-professionals-scout-and-scholar-meetup-3174
END:VEVENT

END:VCALENDAR
