BEGIN:VCALENDAR
VERSION:2.0
PRODID:-//ChamberMaster//Event Calendar 2.0//EN
METHOD:PUBLISH
X-PUBLISHED-TTL:P3D
REFRESH-INTERVAL:P3D
CALSCALE:GREGORIAN
BEGIN:VEVENT
DTSTART:20180125T230000Z
DTEND:20180126T010000Z
X-MICROSOFT-CDO-ALLDAYEVENT:FALSE
SUMMARY:BNCC Annual Dinner
DESCRIPTION:Please join us at the Bardstown Nelson County Chamber of Commerce\n\nAnnual Awards Dinner\n\nSponsored by LG&E and KU
X-ALT-DESC;FMTTYPE=text/html:Please join us at the Bardstown Nelson County Chamber of Commerce<br />\nAnnual Awards Dinner<br />\nSponsored by LG&amp\;E and KU
LOCATION:My Old KY Home State Park in the Great Hall 501 E. Stephen Foster Ave. Bardstown\, KY 40013
UID:e.2912.1409
SEQUENCE:3
DTSTAMP:20260420T070155Z
URL:https://members.bardstownchamber.com/events/details/bncc-annual-dinner-1409
END:VEVENT

END:VCALENDAR
