BEGIN:VCALENDAR
VERSION:2.0
PRODID:-//ChamberMaster//Event Calendar 2.0//EN
METHOD:PUBLISH
X-PUBLISHED-TTL:P3D
REFRESH-INTERVAL:P3D
CALSCALE:GREGORIAN
BEGIN:VEVENT
DTSTART:20260212T230000Z
DTEND:20260213T003000Z
X-MICROSOFT-CDO-ALLDAYEVENT:FALSE
SUMMARY:Bluegrass Christian Academy Open House
DESCRIPTION:Come join us to learn more about classical Christian education and spend time in our classrooms talking with teachers and current BCA families. \n\n \n\nBLUEGRASS CHRISTIAN ACADEMY IS:\n\nCHRISTIAN\n\nBluegrass Christian Academy is a private Christian school committed to providing a Biblically-based classical education. BCA operates as an extension of the family under the expectation that the education of children is the responsibility of parents rather than the state. \n\nCLASSICAL\n\nWe aim to give students a Christian classical education made up of the arts and sciences. Courses encompass phonics\, math\, classic literature\, science\, Latin\, ancient history (classical studies)\, and the fine arts. In all of our programs we aim for continuity and mastery learning while focusing on teaching age-appropriate material through age appropriate methods.\n\nBluegrass Christian Academy Offers:\n\nPreschool-High School\n\nSmall class sizes with personalized attention\n\nFamily-like atmosphere\n\nMission and service project opportunities \n\nWhile BCA costs 30% less than the state average of private Christian schools\, many of our families make tremendous sacrifices to invest this money into their child's education with the academic and spiritual benefits outweighing the costs. \n\nBCA is a member of the Association of Classical Christian Schools (ACCS)\, a partner member of the Classical Latin School Association (CLSA)\, and earned accreditation from the CLSA in 2021. \n\nParent Testimonial\n\n"...Knowing that our children are in a learning environment that supports their faith\, challenges their minds\, and nurtures their hearts gives me peace every day. We wholeheartedly recommend Bluegrass Christian Academy to any family seeking a loving\, Christ-centered education." \n\n- Ashley Bowman
X-ALT-DESC;FMTTYPE=text/html:<div>Come join us to learn more about classical Christian education and spend time in our classrooms talking with teachers and current BCA families.&nbsp\;<br />\n&nbsp\;</div>\n\n<div>BLUEGRASS CHRISTIAN ACADEMY IS:</div>\n\n<div>CHRISTIAN</div>\n\n<div>Bluegrass Christian Academy is a private Christian school committed to providing a Biblically-based classical education. BCA operates as an extension of the family under the expectation that the education of children is the responsibility of parents rather than the state.&nbsp\;</div>\n\n<div>CLASSICAL</div>\n\n<div>We aim to give students a Christian classical education made up of the arts and sciences. Courses encompass phonics\, math\, classic literature\, science\, Latin\, ancient history (classical studies)\, and the fine arts. In all of our programs we aim for continuity and mastery learning while focusing on teaching age-appropriate material through age appropriate methods.</div>\n\n<div>Bluegrass Christian Academy Offers:<br />\nPreschool-High School<br />\nSmall class sizes with personalized attention<br />\nFamily-like atmosphere<br />\nMission and service project opportunities&nbsp\;</div>\n\n<div>While BCA costs 30% less than the state average of private Christian schools\, many of our families make tremendous sacrifices to invest this money into their child&rsquo\;s education with the academic and spiritual benefits outweighing the costs.&nbsp\;</div>\n\n<div>BCA is a member of the Association of Classical Christian Schools (ACCS)\, a partner member of the Classical Latin School Association (CLSA)\, and earned accreditation from the CLSA in 2021.&nbsp\;</div>\n\n<div>Parent Testimonial<br />\n&ldquo\;...Knowing that our children are in a learning environment that supports their faith\, challenges their minds\, and nurtures their hearts gives me peace every day. We wholeheartedly recommend Bluegrass Christian Academy to any family seeking a loving\, Christ-centered education.&rdquo\;&nbsp\;<br />\n- Ashley Bowman</div>\n
LOCATION:2580 Springfield Road Bardstown\, KY 40004
UID:e.2912.3640
SEQUENCE:3
DTSTAMP:20260424T121413Z
URL:https://members.bardstownchamber.com/events/details/bluegrass-christian-academy-open-house-02-12-2026-3640
END:VEVENT

END:VCALENDAR
