BEGIN:VCALENDAR
VERSION:2.0
PRODID:-//ChamberMaster//Event Calendar 2.0//EN
METHOD:PUBLISH
X-PUBLISHED-TTL:P3D
REFRESH-INTERVAL:P3D
CALSCALE:GREGORIAN
BEGIN:VEVENT
DTSTART:20181201T140000Z
DTEND:20181201T170000Z
X-MICROSOFT-CDO-ALLDAYEVENT:FALSE
SUMMARY:Bluegrass Christian Academy Edible Car Challenge
DESCRIPTION:Bring your family or friends together for a fun engineering challenge suitable for all ages! Mom\, Dad\, Grandma\, Grandpa\, Aunt Sally\, or Neighbor Bob  all are welcome! Gather a team of 3-5 engineers\, enjoy each other's company\, and let the creative juices flow!\n\n\n\nWhat's the challenge?! Design a car made entirely of edible materials to bring the day of competition! Prizes will be awarded for 1st\, 2nd\, and 3rd place cars!\n\n\n\nDeadline for registration is Thursday\, November 29. \n\n\n\nBe sure to download our Edible Car Challenge Information Packet for all the information you need! Copy and paste this into your browser to view and download \n\nhttp://bluegrasschristianacademy.org/edible-car-challenge-packet-3/ \n\n\n\nWe will have a few family friendly\, walk-up engineering activities the day of the event! There's something for all ages!
X-ALT-DESC;FMTTYPE=text/html:Bring your family or friends together for a fun engineering challenge suitable for all ages! Mom\, Dad\, Grandma\, Grandpa\, Aunt Sally\, or Neighbor Bob&hellip\; all are welcome! Gather a team of 3-5 engineers\, enjoy each other&rsquo\;s company\, and let the creative juices flow!<br />\n<br />\nWhat&rsquo\;s the challenge?! Design a car made entirely of edible materials to bring the day of competition! Prizes will be awarded for 1st\, 2nd\, and 3rd place cars!<br />\n<br />\nDeadline for registration is Thursday\, November 29.&nbsp\;<br />\n<br />\nBe sure to download our Edible Car Challenge Information Packet for all the information you need! Copy and paste this into your browser to view and download&gt\;<br />\nhttp://bluegrasschristianacademy.org/edible-car-challenge-packet-3/&nbsp\;<br />\n<br />\nWe will have a few family friendly\, walk-up engineering activities the day of the event! There&rsquo\;s something for all ages!&nbsp\;
LOCATION:Bluegrass Christian Academy 2580 Springfield Road Bardstown KY 40004
UID:e.2912.1629
SEQUENCE:3
DTSTAMP:20260419T163650Z
URL:https://members.bardstownchamber.com/events/details/bluegrass-christian-academy-edible-car-challenge-1629
END:VEVENT

END:VCALENDAR
