BEGIN:VCALENDAR
VERSION:2.0
PRODID:-//ChamberMaster//Event Calendar 2.0//EN
METHOD:PUBLISH
X-PUBLISHED-TTL:P3D
REFRESH-INTERVAL:P3D
CALSCALE:GREGORIAN
BEGIN:VEVENT
DTSTART:20181218T233000Z
DTEND:20181219T013000Z
X-MICROSOFT-CDO-ALLDAYEVENT:FALSE
SUMMARY:Bluegrass Christian Academy Christmas Concert
DESCRIPTION:Bluegrass Christian Academy invites you to "A Classic Christmas"\,  a musical celebration of our Savior's birth.  Enjoy Christmas favorites like "Tidings of Comfort and Joy" and "Hodie Christus Natus Est"\, as well as\, a special rendition of cherished Baroque masterworks: Gloria (Antonio Vivaldi)\; From Heaven Above to Earth I Come (J.S. Bach)\; For Unto Us a Child Is Born and Hallelujah Chorus (G.F. Handel).  Sit down and enjoy a break from the hustle and bustle of the Christmas rush. It's our gift to you this Christmas!
X-ALT-DESC;FMTTYPE=text/html:<span style="font-family:tahoma"><span style="background-color:rgb(255\, 255\, 255)\; font-size:14pt">Bluegrass Christian Academy invites you to &quot\;A Classic Christmas&rdquo\;\, &nbsp\;a musical celebration of our Savior&rsquo\;s birth. </span><span style="background-color:rgb(255\, 255\, 255)\; font-size:14pt">&nbsp\;Enjoy Christmas favorites like &ldquo\;Tidings of Comfort and Joy&rdquo\; and &ldquo\;Hodie Christus Natus Est&rdquo\;\, as well as\, a special rendition of cherished Baroque masterworks: Gloria (Antonio Vivaldi)\; From Heaven Above to Earth I Come (J.S. Bach)\; For Unto Us a Child Is Born and Hallelujah Chorus (G.F. Handel). &nbsp\;Sit down and enjoy a break from the hustle and bustle of the Christmas rush. It&rsquo\;s our gift to you this Christmas!</span></span>
LOCATION:Bluegrass Christian Academy 2580 Springfield Road Bardstown\, KY 40004
UID:e.2912.1630
SEQUENCE:3
DTSTAMP:20260419T151643Z
URL:https://members.bardstownchamber.com/events/details/bluegrass-christian-academy-christmas-concert-1630
END:VEVENT

END:VCALENDAR
