BEGIN:VCALENDAR
VERSION:2.0
PRODID:-//ChamberMaster//Event Calendar 2.0//EN
METHOD:PUBLISH
X-PUBLISHED-TTL:P3D
REFRESH-INTERVAL:P3D
CALSCALE:GREGORIAN
BEGIN:VEVENT
DTSTART:20180421T120000Z
DTEND:20180421T160000Z
X-MICROSOFT-CDO-ALLDAYEVENT:FALSE
SUMMARY:Bluegrass Christian Academy 5K/10K
DESCRIPTION:Bluegrass Christian Academy will host a 5K/10K April 21\, 2018.  This event will take place on Parkway Drive.  The road will be closed during this event.  Businesses near the 150 intersection will still have access.
X-ALT-DESC;FMTTYPE=text/html:Bluegrass Christian Academy will host a 5K/10K April 21\, 2018.&nbsp\; This event will take place on Parkway Drive.&nbsp\; The road will be closed during this event.&nbsp\; Businesses near the 150 intersection will still have access.&nbsp\;&nbsp\;
LOCATION:Race begins at Parkway Baptist Church. The race course will go down Parkway Drive.
UID:e.2912.1452
SEQUENCE:3
DTSTAMP:20260420T040303Z
URL:https://members.bardstownchamber.com/events/details/bluegrass-christian-academy-5k-10k-1452
END:VEVENT

END:VCALENDAR
