BEGIN:VCALENDAR
VERSION:2.0
PRODID:-//ChamberMaster//Event Calendar 2.0//EN
METHOD:PUBLISH
X-PUBLISHED-TTL:P3D
REFRESH-INTERVAL:P3D
CALSCALE:GREGORIAN
BEGIN:VEVENT
DTSTART:20181019T160000Z
DTEND:20181019T170000Z
X-MICROSOFT-CDO-ALLDAYEVENT:FALSE
SUMMARY:Bluegrass Aviation Ribbon Cutting
DESCRIPTION:Join us for a Ribbion cutting for Bluegrass Aviation.
X-ALT-DESC;FMTTYPE=text/html:Join us for a Ribbion cutting for Bluegrass Aviation.&nbsp\;
LOCATION:
UID:e.2912.1608
SEQUENCE:3
DTSTAMP:20260419T181815Z
URL:https://members.bardstownchamber.com/events/details/bluegrass-aviation-ribbon-cutting-1608
END:VEVENT

END:VCALENDAR
