BEGIN:VCALENDAR
VERSION:2.0
PRODID:-//ChamberMaster//Event Calendar 2.0//EN
METHOD:PUBLISH
X-PUBLISHED-TTL:P3D
REFRESH-INTERVAL:P3D
CALSCALE:GREGORIAN
BEGIN:VEVENT
DTSTART;VALUE=DATE:20180816
DTEND;VALUE=DATE:20181001
TRANSP:TRANSPARENT
X-MICROSOFT-CDO-ALLDAYEVENT:TRUE
SUMMARY:Beyond the Bourbon
DESCRIPTION:The Bardstown Arts Gallery is hosting an art event highlighting the talent of the employees of the Kentucky distilleries. The distilleries will have the opportunity to show off more than just their bourbon. They will show the depth of the talent of their valuable employees who not only create bourbon\, but a variety of unique arts and crafts.
X-ALT-DESC;FMTTYPE=text/html:The Bardstown Arts Gallery is hosting an art event highlighting the talent of the employees of the Kentucky distilleries. The distilleries will have the opportunity to show off more than just their bourbon. They will show the depth of the talent of their valuable employees who not only create bourbon\, but a variety of unique arts and crafts.&nbsp\;
LOCATION:
UID:e.2912.1589
SEQUENCE:3
DTSTAMP:20260419T194157Z
URL:https://members.bardstownchamber.com/events/details/beyond-the-bourbon-1589
END:VEVENT

END:VCALENDAR
