BEGIN:VCALENDAR
VERSION:2.0
PRODID:-//ChamberMaster//Event Calendar 2.0//EN
METHOD:PUBLISH
X-PUBLISHED-TTL:P3D
REFRESH-INTERVAL:P3D
CALSCALE:GREGORIAN
BEGIN:VEVENT
DTSTART:20180509T220000Z
DTEND:20180510T010000Z
X-MICROSOFT-CDO-ALLDAYEVENT:FALSE
SUMMARY:Bethlehem High Proj. Grad At Wings and Rings
DESCRIPTION:Buffalo Wings & Rings is a proud supporter of our local school. Please join us on Wed. May 9\, 3-9pm. We will kindly donate 15% of your sales back to their project graduation in support of their graduating seniors. Be sure and mention the fundraiser for your receipt to be included. Carry out and online orders are included. You can download our app to order & pay online for a carry out!
X-ALT-DESC;FMTTYPE=text/html:<span style="color: rgb(75\, 79\, 86)\; font-family: Helvetica\, Arial\, sans-serif\; font-size: 14px\; background-color: rgb(255\, 255\, 255)\;">Buffalo Wings &amp\; Rings is a proud supporter of our local school. Please join us on Wed. May 9\, 3-9pm. We will kindly donate 15% of your sales back to their project graduation in support of their graduating seniors. Be sure and mention the fundraiser for your receipt to be included. Carry out and online orders are included. You can download our app to order &amp\; pay online for a carry out!</span>
LOCATION:
UID:e.2912.1466
SEQUENCE:3
DTSTAMP:20260420T023338Z
URL:https://members.bardstownchamber.com/events/details/bethlehem-high-proj-grad-at-wings-and-rings-1466
END:VEVENT

END:VCALENDAR
