BEGIN:VCALENDAR
VERSION:2.0
PRODID:-//ChamberMaster//Event Calendar 2.0//EN
METHOD:PUBLISH
X-PUBLISHED-TTL:P3D
REFRESH-INTERVAL:P3D
CALSCALE:GREGORIAN
BEGIN:VEVENT
DTSTART:20211022T220000Z
DTEND:20211023T000000Z
X-MICROSOFT-CDO-ALLDAYEVENT:FALSE
SUMMARY:Best selling author\, Sam Quinones of Dreamland
DESCRIPTION:
X-ALT-DESC;FMTTYPE=text/html:
LOCATION:
UID:e.2912.3026
SEQUENCE:3
DTSTAMP:20260419T134917Z
URL:https://members.bardstownchamber.com/events/details/best-selling-author-sam-quinones-of-dreamland-3026
END:VEVENT

END:VCALENDAR
