BEGIN:VCALENDAR
VERSION:2.0
PRODID:-//ChamberMaster//Event Calendar 2.0//EN
METHOD:PUBLISH
X-PUBLISHED-TTL:P3D
REFRESH-INTERVAL:P3D
CALSCALE:GREGORIAN
BEGIN:VEVENT
DTSTART:20180519T130000Z
DTEND:20180519T200000Z
X-MICROSOFT-CDO-ALLDAYEVENT:FALSE
SUMMARY:Bernheim's BloomFest and Spring Plant Sale
DESCRIPTION:May 19   Join us at BloomFest\, Bernheim's annual celebration of spring! The costume parade\, naturalist-led discovery stations\, local artisans\, and food vendors are just some of the many activities available for everyone to enjoy. The day also coincides with our annual Spring Plant Sale\, featuring Bernheim Select  plants\, a distinctive variety of plants propagated from Bernheim's own collections\, along with a varied selection of other unique trees\, shrubs\, grasses and perennial herbaceous plants. All plants are suitable for north central Kentucky growing. Bernheim horticulturalists will be on hand to answer questions and provide advice too. All BloomFest festivities run from 9 a.m.   4 p.m. and take place around the Visitor Center. Bernheim Arboretum and Research Forest\, 2499 Clermont Rd\, Hwy 245\, Clermont\, 502-955-8512 www.bernheim.org
X-ALT-DESC;FMTTYPE=text/html:<span style="font-family: Arial\, Helvetica\, sans-serif\; font-size: 14px\;">&nbsp\;May 19 &ndash\; Join us at BloomFest\, Bernheim&rsquo\;s annual celebration of spring! The costume parade\, naturalist-led discovery stations\, local artisans\, and food vendors are just some of the many activities available for everyone to enjoy. The day also coincides with our annual Spring Plant Sale\, featuring Bernheim Select&trade\; plants\, a distinctive variety of plants propagated from Bernheim&rsquo\;s own collections\, along with a varied selection of other unique trees\, shrubs\, grasses and perennial herbaceous plants. All plants are suitable for north central Kentucky growing. Bernheim horticulturalists will be on hand to answer questions and provide advice too. All BloomFest festivities run from 9 a.m. &ndash\; 4 p.m. and take place around the Visitor Center. Bernheim Arboretum and Research Forest\, 2499 Clermont Rd\, Hwy 245\, Clermont\, 502-955-8512 www.bernheim.org</span>
LOCATION:
UID:e.2912.1442
SEQUENCE:3
DTSTAMP:20260420T011058Z
URL:https://members.bardstownchamber.com/events/details/bernheim-s-bloomfest-and-spring-plant-sale-1442
END:VEVENT

END:VCALENDAR
