BEGIN:VCALENDAR
VERSION:2.0
PRODID:-//ChamberMaster//Event Calendar 2.0//EN
METHOD:PUBLISH
X-PUBLISHED-TTL:P3D
REFRESH-INTERVAL:P3D
CALSCALE:GREGORIAN
BEGIN:VEVENT
DTSTART:20180916T150000Z
DTEND:20180916T180000Z
X-MICROSOFT-CDO-ALLDAYEVENT:FALSE
SUMMARY:Before the Bourbon Brunch
DESCRIPTION:Join us for a tasty brunch in the Bourbon Capital of the World . Craft distillers from throughout the state will share their hand-crafted products\, some Bourbon\, some not. The Old Bardstown Village and Civil War Museum are the setting for this casual event.
X-ALT-DESC;FMTTYPE=text/html:Join us for a tasty brunch in the Bourbon Capital of the World&reg\;. Craft distillers from throughout the state will share their hand-crafted products\, some Bourbon\, some not. The Old Bardstown Village and Civil War Museum are the setting for this casual event.
LOCATION:Old Bardstown Village/Civil War Museum 310 E. Broadway Bardstown\, KY 40004
UID:e.2912.1501
SEQUENCE:3
DTSTAMP:20260419T194157Z
URL:https://members.bardstownchamber.com/events/details/before-the-bourbon-brunch-1501
END:VEVENT

END:VCALENDAR
