BEGIN:VCALENDAR
VERSION:2.0
PRODID:-//ChamberMaster//Event Calendar 2.0//EN
METHOD:PUBLISH
X-PUBLISHED-TTL:P3D
REFRESH-INTERVAL:P3D
CALSCALE:GREGORIAN
BEGIN:VEVENT
DTSTART:20180519T150000Z
DTEND:20180519T190000Z
X-MICROSOFT-CDO-ALLDAYEVENT:FALSE
SUMMARY:Beef & Bourbon Cook Off
DESCRIPTION:Heaven Hill Distillery presents  BEEF & BOURBON COOKOUT\n\n\n\nStop by for a bourbon\, beef\, and Ale 8 one tasting!  Nelson County Cattlemen's Association will be serving free burger samples featuring a Heaven Hill sauce bar.
X-ALT-DESC;FMTTYPE=text/html:<span style="font-size:20px">Heaven Hill Distillery presents&nbsp\; BEEF </span><span style="font-size:20px">&amp\; BOURBON COOKOUT<br />\n<br />\nStop by for a bourbon\, beef\, and Ale 8 one tasting!&nbsp\; Nelson County Cattlemen&#39\;s Association will be serving free burger samples featuring a Heaven Hill sauce bar.</span><br />\n<br />\n&nbsp\;
LOCATION:Heaven Hill -The Bourbon Heritage Center 1311 Gilkey Run Road Bardstown\, KY 40004
UID:e.2912.1476
SEQUENCE:3
DTSTAMP:20260420T011413Z
URL:https://members.bardstownchamber.com/events/details/beef-bourbon-cook-off-1476
END:VEVENT

END:VCALENDAR
