BEGIN:VCALENDAR
VERSION:2.0
PRODID:-//ChamberMaster//Event Calendar 2.0//EN
METHOD:PUBLISH
X-PUBLISHED-TTL:P3D
REFRESH-INTERVAL:P3D
CALSCALE:GREGORIAN
BEGIN:VEVENT
DTSTART:20181201T003000Z
DTEND:20181201T020000Z
X-MICROSOFT-CDO-ALLDAYEVENT:FALSE
SUMMARY:Beautiful Music of Christmas
DESCRIPTION:$15 for adults  $12 for Seniors $10 for students Tickets Availble at St. Joseph Parrish Hall or by calling 859-481-7094
X-ALT-DESC;FMTTYPE=text/html:$15 for adults&nbsp\; $12 for Seniors $10 for students Tickets Availble at St. Joseph Parrish Hall or by calling 859-481-7094
LOCATION:
UID:e.2912.1636
SEQUENCE:3
DTSTAMP:20260419T182117Z
URL:https://members.bardstownchamber.com/events/details/beautiful-music-of-christmas-1636
END:VEVENT

END:VCALENDAR
